BEGIN:VCALENDAR
VERSION:2.0
PRODID:-//Dyal Singh College | University of Delhi - ECPv6.0.4//NONSGML v1.0//EN
CALSCALE:GREGORIAN
METHOD:PUBLISH
X-WR-CALNAME:Dyal Singh College | University of Delhi
X-ORIGINAL-URL:https://www.dsc.du.ac.in
X-WR-CALDESC:Events for Dyal Singh College | University of Delhi
REFRESH-INTERVAL;VALUE=DURATION:PT1H
X-Robots-Tag:noindex
X-PUBLISHED-TTL:PT1H
BEGIN:VTIMEZONE
TZID:Asia/Kolkata
BEGIN:STANDARD
TZOFFSETFROM:+0530
TZOFFSETTO:+0530
TZNAME:IST
DTSTART:20250101T000000
END:STANDARD
END:VTIMEZONE
BEGIN:VEVENT
DTSTART;TZID=Asia/Kolkata:20251119T080000
DTEND;TZID=Asia/Kolkata:20251119T170000
DTSTAMP:20260421T223630
CREATED:20251119T103605Z
LAST-MODIFIED:20251119T103605Z
UID:16194-1763539200-1763571600@www.dsc.du.ac.in
SUMMARY:Practical examination datesheet -Nov/Dec. 2025 (Department of Computer Science)
DESCRIPTION:
URL:https://www.dsc.du.ac.in/wp-content/uploads/2025/11/Computer-science-Date-sheet-practical-exam-November-December-2025.pdf#new_tab
CATEGORIES:Students
END:VEVENT
BEGIN:VEVENT
DTSTART;TZID=Asia/Kolkata:20251119T080000
DTEND;TZID=Asia/Kolkata:20251119T170000
DTSTAMP:20260421T223630
CREATED:20251119T103644Z
LAST-MODIFIED:20251119T103644Z
UID:16197-1763539200-1763571600@www.dsc.du.ac.in
SUMMARY:Practical examination datesheet -Nov/Dec. 2025 (Department of Geography)
DESCRIPTION:
URL:https://www.dsc.du.ac.in/wp-content/uploads/2025/11/Geography-Practical-exam-November-December-2025.pdf#new_tab
CATEGORIES:Students
END:VEVENT
END:VCALENDAR