BEGIN:VCALENDAR
VERSION:2.0
PRODID:-//Dyal Singh College | University of Delhi - ECPv6.0.4//NONSGML v1.0//EN
CALSCALE:GREGORIAN
METHOD:PUBLISH
X-WR-CALNAME:Dyal Singh College | University of Delhi
X-ORIGINAL-URL:https://www.dsc.du.ac.in
X-WR-CALDESC:Events for Dyal Singh College | University of Delhi
REFRESH-INTERVAL;VALUE=DURATION:PT1H
X-Robots-Tag:noindex
X-PUBLISHED-TTL:PT1H
BEGIN:VTIMEZONE
TZID:Asia/Kolkata
BEGIN:STANDARD
TZOFFSETFROM:+0530
TZOFFSETTO:+0530
TZNAME:IST
DTSTART:20250101T000000
END:STANDARD
END:VTIMEZONE
BEGIN:VEVENT
DTSTART;TZID=Asia/Kolkata:20251022T080000
DTEND;TZID=Asia/Kolkata:20251022T170000
DTSTAMP:20260421T223630
CREATED:20251022T043226Z
LAST-MODIFIED:20251022T043246Z
UID:16080-1761120000-1761152400@www.dsc.du.ac.in
SUMMARY:Updated List of 1st Semester Students of GE\,SEC\,VAC & AEC with Section as on 21.10.2025
DESCRIPTION:
URL:https://www.dsc.du.ac.in/wp-content/uploads/2025/10/Updated-List-of-Allotted-GE-VAC-SEC-AEC-with-Sections-of-1st-Semester-Students-as-on-21.10.2025.pdf#new_tab
CATEGORIES:Students
END:VEVENT
END:VCALENDAR