BEGIN:VCALENDAR
VERSION:2.0
PRODID:-//Dyal Singh College | University of Delhi - ECPv6.0.4//NONSGML v1.0//EN
CALSCALE:GREGORIAN
METHOD:PUBLISH
X-ORIGINAL-URL:https://www.dsc.du.ac.in
X-WR-CALDESC:Events for Dyal Singh College | University of Delhi
REFRESH-INTERVAL;VALUE=DURATION:PT1H
X-Robots-Tag:noindex
X-PUBLISHED-TTL:PT1H
BEGIN:VTIMEZONE
TZID:Asia/Kolkata
BEGIN:STANDARD
TZOFFSETFROM:+0530
TZOFFSETTO:+0530
TZNAME:IST
DTSTART:20240101T000000
END:STANDARD
END:VTIMEZONE
BEGIN:VEVENT
DTSTART;TZID=Asia/Kolkata:20241018T080000
DTEND;TZID=Asia/Kolkata:20241018T170000
DTSTAMP:20260421T192924
CREATED:20241018T100628Z
LAST-MODIFIED:20241018T100713Z
UID:14273-1729238400-1729270800@www.dsc.du.ac.in
SUMMARY:Updated List of 1st Semester Students :  GE\,SEC\,VAC & AEC with Section as on 18.10.2024
DESCRIPTION:
URL:https://www.dsc.du.ac.in/wp-content/uploads/2024/10/Updated-List-of-1st-Semester-Students-SEC-VAC-GE-List-as-on-18.10.2024-1.pdf#new_tab
CATEGORIES:Students
END:VEVENT
END:VCALENDAR