BEGIN:VCALENDAR
VERSION:2.0
PRODID:-//Dyal Singh College | University of Delhi - ECPv6.0.4//NONSGML v1.0//EN
CALSCALE:GREGORIAN
METHOD:PUBLISH
X-WR-CALNAME:Dyal Singh College | University of Delhi
X-ORIGINAL-URL:https://www.dsc.du.ac.in
X-WR-CALDESC:Events for Dyal Singh College | University of Delhi
REFRESH-INTERVAL;VALUE=DURATION:PT1H
X-Robots-Tag:noindex
X-PUBLISHED-TTL:PT1H
BEGIN:VTIMEZONE
TZID:Asia/Kolkata
BEGIN:STANDARD
TZOFFSETFROM:+0530
TZOFFSETTO:+0530
TZNAME:IST
DTSTART:20240101T000000
END:STANDARD
END:VTIMEZONE
BEGIN:VEVENT
DTSTART;TZID=Asia/Kolkata:20241017T080000
DTEND;TZID=Asia/Kolkata:20241017T170000
DTSTAMP:20260421T122444
CREATED:20241017T062931Z
LAST-MODIFIED:20241017T062931Z
UID:14265-1729152000-1729184400@www.dsc.du.ac.in
SUMMARY:List of students who applied for scholarship (NSP); are required to contact CRC Lab asap
DESCRIPTION:
URL:https://www.dsc.du.ac.in/wp-content/uploads/2024/10/nsp-list.pdf#new_tab
CATEGORIES:Students
END:VEVENT
BEGIN:VEVENT
DTSTART;TZID=Asia/Kolkata:20241017T080000
DTEND;TZID=Asia/Kolkata:20241017T170000
DTSTAMP:20260421T122444
CREATED:20241017T094940Z
LAST-MODIFIED:20241017T094940Z
UID:14268-1729152000-1729184400@www.dsc.du.ac.in
SUMMARY:Notice Remedial Sessions- Department of Commerce
DESCRIPTION:
URL:https://www.dsc.du.ac.in/wp-content/uploads/2024/10/Notice-Remedial-Sessions-24-25.pdf#new_tab
CATEGORIES:Students
END:VEVENT
END:VCALENDAR