BEGIN:VCALENDAR
VERSION:2.0
PRODID:-//Dyal Singh College | University of Delhi - ECPv6.0.4//NONSGML v1.0//EN
CALSCALE:GREGORIAN
METHOD:PUBLISH
X-WR-CALNAME:Dyal Singh College | University of Delhi
X-ORIGINAL-URL:https://www.dsc.du.ac.in
X-WR-CALDESC:Events for Dyal Singh College | University of Delhi
REFRESH-INTERVAL;VALUE=DURATION:PT1H
X-Robots-Tag:noindex
X-PUBLISHED-TTL:PT1H
BEGIN:VTIMEZONE
TZID:Asia/Kolkata
BEGIN:STANDARD
TZOFFSETFROM:+0530
TZOFFSETTO:+0530
TZNAME:IST
DTSTART:20240101T000000
END:STANDARD
END:VTIMEZONE
BEGIN:VEVENT
DTSTART;TZID=Asia/Kolkata:20241016T080000
DTEND;TZID=Asia/Kolkata:20241016T170000
DTSTAMP:20260421T223639
CREATED:20241016T071255Z
LAST-MODIFIED:20241016T071432Z
UID:14250-1729065600-1729098000@www.dsc.du.ac.in
SUMMARY:Last date for applying for Ishan Uday Special Scholarship Scheme For NER is 31st Oct 24. Visit NSP for fresh and renewal of the applications.
DESCRIPTION:
URL:https://scholarships.gov.in/#new_tab
CATEGORIES:Students
END:VEVENT
BEGIN:VEVENT
DTSTART;TZID=Asia/Kolkata:20241016T080000
DTEND;TZID=Asia/Kolkata:20241016T170000
DTSTAMP:20260421T223639
CREATED:20241016T071801Z
LAST-MODIFIED:20241016T071801Z
UID:14253-1729065600-1729098000@www.dsc.du.ac.in
SUMMARY:Visit NSP for fresh and renewal of the applications for various schemes
DESCRIPTION:
URL:https://scholarships.gov.in/#new_tab
CATEGORIES:Students
END:VEVENT
BEGIN:VEVENT
DTSTART;TZID=Asia/Kolkata:20241016T080000
DTEND;TZID=Asia/Kolkata:20241016T170000
DTSTAMP:20260421T223639
CREATED:20241016T072042Z
LAST-MODIFIED:20241016T072042Z
UID:14255-1729065600-1729098000@www.dsc.du.ac.in
SUMMARY:Students who have applied for scholarships through NSP portal are required to contact CRC Lab asap as last date is 31st Oct 2024.
DESCRIPTION:
URL:https://scholarships.gov.in/#new_tab
CATEGORIES:Students
END:VEVENT
END:VCALENDAR