BEGIN:VCALENDAR
VERSION:2.0
PRODID:-//Dyal Singh College | University of Delhi - ECPv6.0.4//NONSGML v1.0//EN
CALSCALE:GREGORIAN
METHOD:PUBLISH
X-WR-CALNAME:Dyal Singh College | University of Delhi
X-ORIGINAL-URL:https://www.dsc.du.ac.in
X-WR-CALDESC:Events for Dyal Singh College | University of Delhi
REFRESH-INTERVAL;VALUE=DURATION:PT1H
X-Robots-Tag:noindex
X-PUBLISHED-TTL:PT1H
BEGIN:VTIMEZONE
TZID:Asia/Kolkata
BEGIN:STANDARD
TZOFFSETFROM:+0530
TZOFFSETTO:+0530
TZNAME:IST
DTSTART:20240101T000000
END:STANDARD
END:VTIMEZONE
BEGIN:VEVENT
DTSTART;TZID=Asia/Kolkata:20240920T080000
DTEND;TZID=Asia/Kolkata:20240920T170000
DTSTAMP:20260420T221446
CREATED:20240920T100658Z
LAST-MODIFIED:20240920T100727Z
UID:14028-1726819200-1726851600@www.dsc.du.ac.in
SUMMARY:For First Year Students only (Reg: Google Form Link for Student Identity cum Library Card 2024-25)
DESCRIPTION:
URL:https://forms.gle/HXRPZXMawj7ZFimP9
CATEGORIES:Students
END:VEVENT
BEGIN:VEVENT
DTSTART;TZID=Asia/Kolkata:20240920T080000
DTEND;TZID=Asia/Kolkata:20240920T170000
DTSTAMP:20260420T221446
CREATED:20240920T102322Z
LAST-MODIFIED:20240920T102322Z
UID:14031-1726819200-1726851600@www.dsc.du.ac.in
SUMMARY:TOP TROVE FOUNDATION INTERNSHIP
DESCRIPTION:
URL:https://www.dsc.du.ac.in/wp-content/uploads/2024/09/IMG-20240919-WA0045.jpg#new_tab
CATEGORIES:Students
END:VEVENT
END:VCALENDAR