BEGIN:VCALENDAR
VERSION:2.0
PRODID:-//Dyal Singh College | University of Delhi - ECPv6.0.4//NONSGML v1.0//EN
CALSCALE:GREGORIAN
METHOD:PUBLISH
X-ORIGINAL-URL:https://www.dsc.du.ac.in
X-WR-CALDESC:Events for Dyal Singh College | University of Delhi
REFRESH-INTERVAL;VALUE=DURATION:PT1H
X-Robots-Tag:noindex
X-PUBLISHED-TTL:PT1H
BEGIN:VTIMEZONE
TZID:Asia/Kolkata
BEGIN:STANDARD
TZOFFSETFROM:+0530
TZOFFSETTO:+0530
TZNAME:IST
DTSTART:20240101T000000
END:STANDARD
END:VTIMEZONE
BEGIN:VEVENT
DTSTART;TZID=Asia/Kolkata:20240910T080000
DTEND;TZID=Asia/Kolkata:20240910T170000
DTSTAMP:20260421T000750
CREATED:20240910T041105Z
LAST-MODIFIED:20240910T041105Z
UID:13916-1725955200-1725987600@www.dsc.du.ac.in
SUMMARY:Notice (Reg: College students union and central councillor of DUSU 2024-25 Elections)
DESCRIPTION:
URL:https://www.dsc.du.ac.in/wp-content/uploads/2024/09/election-notice.pdf#new_tab
CATEGORIES:General,Students
END:VEVENT
BEGIN:VEVENT
DTSTART;TZID=Asia/Kolkata:20240910T080000
DTEND;TZID=Asia/Kolkata:20240910T170000
DTSTAMP:20260421T000750
CREATED:20240910T070427Z
LAST-MODIFIED:20240910T070427Z
UID:13919-1725955200-1725987600@www.dsc.du.ac.in
SUMMARY:NOMINATION FORM  FOR STUDENTS COUNCIL 2024
DESCRIPTION:
URL:https://www.dsc.du.ac.in/wp-content/uploads/2024/09/NOMINATION-FORM-FOR-STUDENTS-COUNCIL-2024-1.pdf#new_tab
CATEGORIES:Students
END:VEVENT
BEGIN:VEVENT
DTSTART;TZID=Asia/Kolkata:20240910T080000
DTEND;TZID=Asia/Kolkata:20240910T170000
DTSTAMP:20260421T000750
CREATED:20240910T102050Z
LAST-MODIFIED:20240910T102050Z
UID:13922-1725955200-1725987600@www.dsc.du.ac.in
SUMMARY:Notice(Reg: Playing of drums and burning of crackers in college)
DESCRIPTION:
URL:https://www.dsc.du.ac.in/wp-content/uploads/2024/09/firecracker.pdf#new_tab
CATEGORIES:Students
END:VEVENT
END:VCALENDAR