BEGIN:VCALENDAR
VERSION:2.0
PRODID:-//Dyal Singh College | University of Delhi - ECPv6.0.4//NONSGML v1.0//EN
CALSCALE:GREGORIAN
METHOD:PUBLISH
X-ORIGINAL-URL:https://www.dsc.du.ac.in
X-WR-CALDESC:Events for Dyal Singh College | University of Delhi
REFRESH-INTERVAL;VALUE=DURATION:PT1H
X-Robots-Tag:noindex
X-PUBLISHED-TTL:PT1H
BEGIN:VTIMEZONE
TZID:Asia/Kolkata
BEGIN:STANDARD
TZOFFSETFROM:+0530
TZOFFSETTO:+0530
TZNAME:IST
DTSTART:20240101T000000
END:STANDARD
END:VTIMEZONE
BEGIN:VEVENT
DTSTART;TZID=Asia/Kolkata:20240902T080000
DTEND;TZID=Asia/Kolkata:20240902T170000
DTSTAMP:20260421T192922
CREATED:20240902T061131Z
LAST-MODIFIED:20240902T061715Z
UID:13870-1725264000-1725296400@www.dsc.du.ac.in
SUMMARY:Reminder (Reg: Students who have applied for E-District Delhi Scholarship for the session 2023-24)
DESCRIPTION:
URL:https://www.dsc.du.ac.in/wp-content/uploads/2024/09/e-district-delhi1-1.pdf#new_tab
CATEGORIES:Students
END:VEVENT
END:VCALENDAR