BEGIN:VCALENDAR
VERSION:2.0
PRODID:-//Dyal Singh College | University of Delhi - ECPv6.0.4//NONSGML v1.0//EN
CALSCALE:GREGORIAN
METHOD:PUBLISH
X-ORIGINAL-URL:https://www.dsc.du.ac.in
X-WR-CALDESC:Events for Dyal Singh College | University of Delhi
REFRESH-INTERVAL;VALUE=DURATION:PT1H
X-Robots-Tag:noindex
X-PUBLISHED-TTL:PT1H
BEGIN:VTIMEZONE
TZID:Asia/Kolkata
BEGIN:STANDARD
TZOFFSETFROM:+0530
TZOFFSETTO:+0530
TZNAME:IST
DTSTART:20240101T000000
END:STANDARD
END:VTIMEZONE
BEGIN:VEVENT
DTSTART;TZID=Asia/Kolkata:20240426T080000
DTEND;TZID=Asia/Kolkata:20240426T170000
DTSTAMP:20260422T000505
CREATED:20240426T092439Z
LAST-MODIFIED:20240426T092439Z
UID:13221-1714118400-1714150800@www.dsc.du.ac.in
SUMMARY:Practical Exam Datesheet (Department of Economics)
DESCRIPTION:
URL:https://www.dsc.du.ac.in/wp-content/uploads/2024/04/dept-ofeconomics.pdf#new_tab
CATEGORIES:Students
END:VEVENT
BEGIN:VEVENT
DTSTART;TZID=Asia/Kolkata:20240426T080000
DTEND;TZID=Asia/Kolkata:20240426T170000
DTSTAMP:20260422T000505
CREATED:20240426T092604Z
LAST-MODIFIED:20240426T092604Z
UID:13224-1714118400-1714150800@www.dsc.du.ac.in
SUMMARY:Practical Exam Datesheet (Department of Botany)
DESCRIPTION:
URL:https://www.dsc.du.ac.in/wp-content/uploads/2024/04/Botany-Practical-exam-May-2024-date-sheet-1.pdf#new_tab
CATEGORIES:Students
END:VEVENT
END:VCALENDAR