BEGIN:VCALENDAR
VERSION:2.0
PRODID:-//Dyal Singh College | University of Delhi - ECPv6.0.4//NONSGML v1.0//EN
CALSCALE:GREGORIAN
METHOD:PUBLISH
X-ORIGINAL-URL:https://www.dsc.du.ac.in
X-WR-CALDESC:Events for Dyal Singh College | University of Delhi
REFRESH-INTERVAL;VALUE=DURATION:PT1H
X-Robots-Tag:noindex
X-PUBLISHED-TTL:PT1H
BEGIN:VTIMEZONE
TZID:Asia/Kolkata
BEGIN:STANDARD
TZOFFSETFROM:+0530
TZOFFSETTO:+0530
TZNAME:IST
DTSTART:20240101T000000
END:STANDARD
END:VTIMEZONE
BEGIN:VEVENT
DTSTART;TZID=Asia/Kolkata:20240409T080000
DTEND;TZID=Asia/Kolkata:20240409T170000
DTSTAMP:20260421T185430
CREATED:20240409T041117Z
LAST-MODIFIED:20240409T041117Z
UID:13135-1712649600-1712682000@www.dsc.du.ac.in
SUMMARY:Khabre Vidyarthi Internship
DESCRIPTION:
URL:https://www.dsc.du.ac.in/wp-content/uploads/2024/04/khabre.jpg#new_tab
CATEGORIES:Students
END:VEVENT
BEGIN:VEVENT
DTSTART;TZID=Asia/Kolkata:20240409T080000
DTEND;TZID=Asia/Kolkata:20240409T170000
DTSTAMP:20260421T185430
CREATED:20240409T095255Z
LAST-MODIFIED:20240409T095636Z
UID:13138-1712649600-1712682000@www.dsc.du.ac.in
SUMMARY:Students who have applied for various services on E-District Delhi Portal
DESCRIPTION:
URL:https://www.dsc.du.ac.in/wp-content/uploads/2024/04/edistrict-data-ff7.pdf#new_tab
CATEGORIES:Students
END:VEVENT
END:VCALENDAR