BEGIN:VCALENDAR
VERSION:2.0
PRODID:-//Dyal Singh College | University of Delhi - ECPv6.0.4//NONSGML v1.0//EN
CALSCALE:GREGORIAN
METHOD:PUBLISH
X-ORIGINAL-URL:https://www.dsc.du.ac.in
X-WR-CALDESC:Events for Dyal Singh College | University of Delhi
REFRESH-INTERVAL;VALUE=DURATION:PT1H
X-Robots-Tag:noindex
X-PUBLISHED-TTL:PT1H
BEGIN:VTIMEZONE
TZID:Asia/Kolkata
BEGIN:STANDARD
TZOFFSETFROM:+0530
TZOFFSETTO:+0530
TZNAME:IST
DTSTART:20240101T000000
END:STANDARD
END:VTIMEZONE
BEGIN:VEVENT
DTSTART;TZID=Asia/Kolkata:20240124T080000
DTEND;TZID=Asia/Kolkata:20240124T170000
DTSTAMP:20260420T081131
CREATED:20240124T051404Z
LAST-MODIFIED:20240124T051404Z
UID:12665-1706083200-1706115600@www.dsc.du.ac.in
SUMMARY:Sem-4_VAC_29 Cases_Alloted by the College itself
DESCRIPTION:
URL:https://www.dsc.du.ac.in/wp-content/uploads/2024/01/Sem-4_VAC_29-Cases_Alloted-by-the-College-itself.pdf#new_tab
CATEGORIES:Students
END:VEVENT
BEGIN:VEVENT
DTSTART;TZID=Asia/Kolkata:20240124T080000
DTEND;TZID=Asia/Kolkata:20240124T170000
DTSTAMP:20260420T081131
CREATED:20240124T051439Z
LAST-MODIFIED:20240124T051439Z
UID:12668-1706083200-1706115600@www.dsc.du.ac.in
SUMMARY:Sem-4_GE Allotment
DESCRIPTION:
URL:https://www.dsc.du.ac.in/wp-content/uploads/2024/01/Sem-4_GE-Allotment.pdf#new_tab
CATEGORIES:Students
END:VEVENT
BEGIN:VEVENT
DTSTART;TZID=Asia/Kolkata:20240124T080000
DTEND;TZID=Asia/Kolkata:20240124T170000
DTSTAMP:20260420T081131
CREATED:20240124T051517Z
LAST-MODIFIED:20240124T051517Z
UID:12671-1706083200-1706115600@www.dsc.du.ac.in
SUMMARY:Sem-4_VAC Allotment
DESCRIPTION:
URL:https://www.dsc.du.ac.in/wp-content/uploads/2024/01/Sem-4_VAC-Allotment.pdf#new_tab
CATEGORIES:Students
END:VEVENT
BEGIN:VEVENT
DTSTART;TZID=Asia/Kolkata:20240124T080000
DTEND;TZID=Asia/Kolkata:20240124T170000
DTSTAMP:20260420T081131
CREATED:20240124T051546Z
LAST-MODIFIED:20240124T051546Z
UID:12674-1706083200-1706115600@www.dsc.du.ac.in
SUMMARY:Sem-4_SEC Allotment
DESCRIPTION:
URL:https://www.dsc.du.ac.in/wp-content/uploads/2024/01/Sem-4_SEC-Allotment.pdf#new_tab
CATEGORIES:Students
END:VEVENT
BEGIN:VEVENT
DTSTART;TZID=Asia/Kolkata:20240124T080000
DTEND;TZID=Asia/Kolkata:20240124T170000
DTSTAMP:20260420T081131
CREATED:20240124T051621Z
LAST-MODIFIED:20240124T051621Z
UID:12677-1706083200-1706115600@www.dsc.du.ac.in
SUMMARY:Sem-4_DSE Allotment
DESCRIPTION:
URL:https://www.dsc.du.ac.in/wp-content/uploads/2024/01/Sem-4_DSE-Allotment.pdf#new_tab
CATEGORIES:Students
END:VEVENT
BEGIN:VEVENT
DTSTART;TZID=Asia/Kolkata:20240124T080000
DTEND;TZID=Asia/Kolkata:20240124T170000
DTSTAMP:20260420T081131
CREATED:20240124T051702Z
LAST-MODIFIED:20240124T051702Z
UID:12680-1706083200-1706115600@www.dsc.du.ac.in
SUMMARY:Sem-4_AEC allotment
DESCRIPTION:
URL:https://www.dsc.du.ac.in/wp-content/uploads/2024/01/Sem-4_AEC.pdf#new_tab
CATEGORIES:Students
END:VEVENT
BEGIN:VEVENT
DTSTART;TZID=Asia/Kolkata:20240124T080000
DTEND;TZID=Asia/Kolkata:20240124T170000
DTSTAMP:20260420T081131
CREATED:20240124T051731Z
LAST-MODIFIED:20240124T051731Z
UID:12683-1706083200-1706115600@www.dsc.du.ac.in
SUMMARY:Sem-2_VAC_35 Cases_Alloted by the College itself
DESCRIPTION:
URL:https://www.dsc.du.ac.in/wp-content/uploads/2024/01/Sem-2_VAC_35-Cases_Alloted-by-the-College-itself.pdf#new_tab
CATEGORIES:Students
END:VEVENT
BEGIN:VEVENT
DTSTART;TZID=Asia/Kolkata:20240124T080000
DTEND;TZID=Asia/Kolkata:20240124T170000
DTSTAMP:20260420T081131
CREATED:20240124T051807Z
LAST-MODIFIED:20240124T051807Z
UID:12686-1706083200-1706115600@www.dsc.du.ac.in
SUMMARY:Sem-2_VAC Allotment
DESCRIPTION:
URL:https://www.dsc.du.ac.in/wp-content/uploads/2024/01/Sem-2_VAC-Allotment.pdf#new_tab
CATEGORIES:Students
END:VEVENT
BEGIN:VEVENT
DTSTART;TZID=Asia/Kolkata:20240124T080000
DTEND;TZID=Asia/Kolkata:20240124T170000
DTSTAMP:20260420T081131
CREATED:20240124T051838Z
LAST-MODIFIED:20240124T051838Z
UID:12689-1706083200-1706115600@www.dsc.du.ac.in
SUMMARY:Sem-2_SEC Allotment
DESCRIPTION:
URL:https://www.dsc.du.ac.in/wp-content/uploads/2024/01/Sem-2_SEC-Allotment.pdf#new_tab
CATEGORIES:Students
END:VEVENT
BEGIN:VEVENT
DTSTART;TZID=Asia/Kolkata:20240124T080000
DTEND;TZID=Asia/Kolkata:20240124T170000
DTSTAMP:20260420T081131
CREATED:20240124T051917Z
LAST-MODIFIED:20240124T051917Z
UID:12692-1706083200-1706115600@www.dsc.du.ac.in
SUMMARY:Sem-2_GE Allotment
DESCRIPTION:
URL:https://www.dsc.du.ac.in/wp-content/uploads/2024/01/Sem-2_GE-Allotment.pdf#new_tab
CATEGORIES:Students
END:VEVENT
BEGIN:VEVENT
DTSTART;TZID=Asia/Kolkata:20240124T080000
DTEND;TZID=Asia/Kolkata:20240124T170000
DTSTAMP:20260420T081131
CREATED:20240124T051953Z
LAST-MODIFIED:20240124T051953Z
UID:12695-1706083200-1706115600@www.dsc.du.ac.in
SUMMARY:Sem-2_AEC allotment
DESCRIPTION:
URL:https://www.dsc.du.ac.in/wp-content/uploads/2024/01/Sem-2_AEC.pdf#new_tab
CATEGORIES:Students
END:VEVENT
BEGIN:VEVENT
DTSTART;TZID=Asia/Kolkata:20240124T080000
DTEND;TZID=Asia/Kolkata:20240124T170000
DTSTAMP:20260420T081131
CREATED:20240124T052026Z
LAST-MODIFIED:20240124T052026Z
UID:12699-1706083200-1706115600@www.dsc.du.ac.in
SUMMARY:NOTICE_Sem-2 & 4_SEC & VAC Allocation
DESCRIPTION:
URL:https://www.dsc.du.ac.in/wp-content/uploads/2024/01/NOTICE_Sem-2-4_SEC-VAC-Allocation.pdf#new_tab
CATEGORIES:Students
END:VEVENT
BEGIN:VEVENT
DTSTART;TZID=Asia/Kolkata:20240124T080000
DTEND;TZID=Asia/Kolkata:20240124T170000
DTSTAMP:20260420T081131
CREATED:20240124T052430Z
LAST-MODIFIED:20240124T052430Z
UID:12702-1706083200-1706115600@www.dsc.du.ac.in
SUMMARY:Sem-6 Wrong GE Chosen
DESCRIPTION:
URL:https://www.dsc.du.ac.in/wp-content/uploads/2024/01/Sem-6-Wrong-GE-Chosen.pdf#new_tab
CATEGORIES:Students
END:VEVENT
BEGIN:VEVENT
DTSTART;TZID=Asia/Kolkata:20240124T080000
DTEND;TZID=Asia/Kolkata:20240124T170000
DTSTAMP:20260420T081131
CREATED:20240124T052548Z
LAST-MODIFIED:20240124T052548Z
UID:12705-1706083200-1706115600@www.dsc.du.ac.in
SUMMARY:TNS INDIA FOUNDATION RECRUITMENT
DESCRIPTION:
URL:https://www.dsc.du.ac.in/wp-content/uploads/2024/01/IMG-20240122-WA0001.jpg#new_tab
CATEGORIES:Students
END:VEVENT
BEGIN:VEVENT
DTSTART;TZID=Asia/Kolkata:20240124T080000
DTEND;TZID=Asia/Kolkata:20240124T170000
DTSTAMP:20260420T081131
CREATED:20240124T052637Z
LAST-MODIFIED:20240124T052637Z
UID:12708-1706083200-1706115600@www.dsc.du.ac.in
SUMMARY:GENPACT RECRUITMENT
DESCRIPTION:
URL:https://www.dsc.du.ac.in/wp-content/uploads/2024/01/IMG-20240123-WA0092-G.jpg#new_tab
CATEGORIES:Students
END:VEVENT
END:VCALENDAR