BEGIN:VCALENDAR
VERSION:2.0
PRODID:-//Dyal Singh College | University of Delhi - ECPv6.0.4//NONSGML v1.0//EN
CALSCALE:GREGORIAN
METHOD:PUBLISH
X-ORIGINAL-URL:https://www.dsc.du.ac.in
X-WR-CALDESC:Events for Dyal Singh College | University of Delhi
REFRESH-INTERVAL;VALUE=DURATION:PT1H
X-Robots-Tag:noindex
X-PUBLISHED-TTL:PT1H
BEGIN:VTIMEZONE
TZID:Asia/Kolkata
BEGIN:STANDARD
TZOFFSETFROM:+0530
TZOFFSETTO:+0530
TZNAME:IST
DTSTART:20240101T000000
END:STANDARD
END:VTIMEZONE
BEGIN:VEVENT
DTSTART;TZID=Asia/Kolkata:20240112T080000
DTEND;TZID=Asia/Kolkata:20240112T170000
DTSTAMP:20260421T115417
CREATED:20240112T090005Z
LAST-MODIFIED:20240112T090030Z
UID:12601-1705046400-1705078800@www.dsc.du.ac.in
SUMMARY:COMPETENCE ENHANCEMENT SCHEME 2023-24 (II and IV Semester): An opportunity for Knowledge Enhancement
DESCRIPTION:
URL:https://www.dsc.du.ac.in/wp-content/uploads/2024/01/CES-23-24-UG-PG-Poster.pdf#new_tab
CATEGORIES:Announcements,Students
END:VEVENT
BEGIN:VEVENT
DTSTART;TZID=Asia/Kolkata:20240112T080000
DTEND;TZID=Asia/Kolkata:20240112T170000
DTSTAMP:20260421T115417
CREATED:20240112T101223Z
LAST-MODIFIED:20240112T101511Z
UID:12604-1705046400-1705078800@www.dsc.du.ac.in
SUMMARY:Very important (Reg: List of students whose names are mentioned in the list attached(NSP)are required to submit all relevant docs asap in crc lab)
DESCRIPTION:
URL:https://www.dsc.du.ac.in/wp-content/uploads/2024/01/NSP-DATA-FINAL.pdf#new_tab
CATEGORIES:Students
END:VEVENT
END:VCALENDAR