BEGIN:VCALENDAR
VERSION:2.0
PRODID:-//Dyal Singh College | University of Delhi - ECPv6.0.4//NONSGML v1.0//EN
CALSCALE:GREGORIAN
METHOD:PUBLISH
X-ORIGINAL-URL:https://www.dsc.du.ac.in
X-WR-CALDESC:Events for Dyal Singh College | University of Delhi
REFRESH-INTERVAL;VALUE=DURATION:PT1H
X-Robots-Tag:noindex
X-PUBLISHED-TTL:PT1H
BEGIN:VTIMEZONE
TZID:Asia/Kolkata
BEGIN:STANDARD
TZOFFSETFROM:+0530
TZOFFSETTO:+0530
TZNAME:IST
DTSTART:20240101T000000
END:STANDARD
END:VTIMEZONE
BEGIN:VEVENT
DTSTART;TZID=Asia/Kolkata:20240109T080000
DTEND;TZID=Asia/Kolkata:20240109T170000
DTSTAMP:20260421T115407
CREATED:20240109T085900Z
LAST-MODIFIED:20240109T085900Z
UID:12584-1704787200-1704819600@www.dsc.du.ac.in
SUMMARY:Notice (Reg: Discontinued Papers and the LINK to Choose Option against Discontinued Paper(s))
DESCRIPTION:
URL:https://www.dsc.du.ac.in/wp-content/uploads/2024/01/Discontinued-Papers-and-the-LINK-to-Choose-Option-against-Discontinued-Papers.pdf#new_tab
CATEGORIES:Students
END:VEVENT
END:VCALENDAR