BEGIN:VCALENDAR
VERSION:2.0
PRODID:-//Dyal Singh College | University of Delhi - ECPv6.0.4//NONSGML v1.0//EN
CALSCALE:GREGORIAN
METHOD:PUBLISH
X-ORIGINAL-URL:https://www.dsc.du.ac.in
X-WR-CALDESC:Events for Dyal Singh College | University of Delhi
REFRESH-INTERVAL;VALUE=DURATION:PT1H
X-Robots-Tag:noindex
X-PUBLISHED-TTL:PT1H
BEGIN:VTIMEZONE
TZID:Asia/Kolkata
BEGIN:STANDARD
TZOFFSETFROM:+0530
TZOFFSETTO:+0530
TZNAME:IST
DTSTART:20230101T000000
END:STANDARD
END:VTIMEZONE
BEGIN:VEVENT
DTSTART;TZID=Asia/Kolkata:20230920T080000
DTEND;TZID=Asia/Kolkata:20230920T170000
DTSTAMP:20260421T000755
CREATED:20230920T030430Z
LAST-MODIFIED:20230920T055811Z
UID:11580-1695196800-1695229200@www.dsc.du.ac.in
SUMMARY:Final List of Students admitted to the First Year with Roll Numbers and Section Allotted  as on 19-09-2023
DESCRIPTION:
URL:https://www.dsc.du.ac.in/wp-content/uploads/2023/09/2023-UPDATED-SECTION-ALLOTMENT-1-SMT-AS-ON-20-09-2023.pdf#new_tab
CATEGORIES:General,Students
END:VEVENT
BEGIN:VEVENT
DTSTART;TZID=Asia/Kolkata:20230920T080000
DTEND;TZID=Asia/Kolkata:20230920T170000
DTSTAMP:20260421T000755
CREATED:20230920T070938Z
LAST-MODIFIED:20230920T070938Z
UID:11585-1695196800-1695229200@www.dsc.du.ac.in
SUMMARY:Fresher's Party 2023 (Deptt. of Mathematics)
DESCRIPTION:
URL:https://www.dsc.du.ac.in/wp-content/uploads/2023/09/DEPARTMENT-OF-MATHEMATICS-fianl-without-bg-scaled.jpg#new_tab
CATEGORIES:Students
END:VEVENT
BEGIN:VEVENT
DTSTART;TZID=Asia/Kolkata:20230920T080000
DTEND;TZID=Asia/Kolkata:20230920T170000
DTSTAMP:20260421T000755
CREATED:20230920T084102Z
LAST-MODIFIED:20230920T084102Z
UID:11591-1695196800-1695229200@www.dsc.du.ac.in
SUMMARY:INTELLIPAAT RECRUITMENT (The Placement Cell)
DESCRIPTION:
URL:https://www.dsc.du.ac.in/wp-content/uploads/2023/09/IMG-20230919-WA0082.jpg#new_tab
CATEGORIES:Students
END:VEVENT
BEGIN:VEVENT
DTSTART;TZID=Asia/Kolkata:20230920T080000
DTEND;TZID=Asia/Kolkata:20230920T170000
DTSTAMP:20260421T000755
CREATED:20230920T084218Z
LAST-MODIFIED:20230920T084218Z
UID:11593-1695196800-1695229200@www.dsc.du.ac.in
SUMMARY:Empire Weekly Internship (The Placement Cell)
DESCRIPTION:
URL:https://www.dsc.du.ac.in/wp-content/uploads/2023/09/IMG-20230920-WA0023.jpg#new_tab
CATEGORIES:Students
END:VEVENT
BEGIN:VEVENT
DTSTART;TZID=Asia/Kolkata:20230920T080000
DTEND;TZID=Asia/Kolkata:20230920T170000
DTSTAMP:20260421T000755
CREATED:20230920T084311Z
LAST-MODIFIED:20230920T084311Z
UID:11595-1695196800-1695229200@www.dsc.du.ac.in
SUMMARY:Techowiz Internship (The Placement Cell)
DESCRIPTION:
URL:https://www.dsc.du.ac.in/wp-content/uploads/2023/09/IMG-20230920-WA0024.jpg#new_tab
CATEGORIES:Students
END:VEVENT
END:VCALENDAR