BEGIN:VCALENDAR
VERSION:2.0
PRODID:-//Dyal Singh College | University of Delhi - ECPv6.0.4//NONSGML v1.0//EN
CALSCALE:GREGORIAN
METHOD:PUBLISH
X-ORIGINAL-URL:https://www.dsc.du.ac.in
X-WR-CALDESC:Events for Dyal Singh College | University of Delhi
REFRESH-INTERVAL;VALUE=DURATION:PT1H
X-Robots-Tag:noindex
X-PUBLISHED-TTL:PT1H
BEGIN:VTIMEZONE
TZID:Asia/Kolkata
BEGIN:STANDARD
TZOFFSETFROM:+0530
TZOFFSETTO:+0530
TZNAME:IST
DTSTART:20230101T000000
END:STANDARD
END:VTIMEZONE
BEGIN:VEVENT
DTSTART;TZID=Asia/Kolkata:20230824T080000
DTEND;TZID=Asia/Kolkata:20230824T170000
DTSTAMP:20260421T185436
CREATED:20230824T032919Z
LAST-MODIFIED:20230824T032919Z
UID:11259-1692864000-1692896400@www.dsc.du.ac.in
SUMMARY:Learning Routes Recruitment (The Placement Cell)
DESCRIPTION:
URL:https://www.dsc.du.ac.in/wp-content/uploads/2023/08/IMG-20230823-WA0043.jpg#new_tab
CATEGORIES:Students
END:VEVENT
END:VCALENDAR