BEGIN:VCALENDAR
VERSION:2.0
PRODID:-//Dyal Singh College | University of Delhi - ECPv6.0.4//NONSGML v1.0//EN
CALSCALE:GREGORIAN
METHOD:PUBLISH
X-ORIGINAL-URL:https://www.dsc.du.ac.in
X-WR-CALDESC:Events for Dyal Singh College | University of Delhi
REFRESH-INTERVAL;VALUE=DURATION:PT1H
X-Robots-Tag:noindex
X-PUBLISHED-TTL:PT1H
BEGIN:VTIMEZONE
TZID:Asia/Kolkata
BEGIN:STANDARD
TZOFFSETFROM:+0530
TZOFFSETTO:+0530
TZNAME:IST
DTSTART:20230101T000000
END:STANDARD
END:VTIMEZONE
BEGIN:VEVENT
DTSTART;TZID=Asia/Kolkata:20230701T080000
DTEND;TZID=Asia/Kolkata:20230701T170000
DTSTAMP:20260421T192927
CREATED:20230701T072925Z
LAST-MODIFIED:20230701T072925Z
UID:10586-1688198400-1688230800@www.dsc.du.ac.in
SUMMARY:Practical Datesheet ( Dept. of Physical Education: 2nd SEM)
DESCRIPTION:
URL:https://www.dsc.du.ac.in/wp-content/uploads/2023/07/Practical-Datesheet-Dept.-of-Physical-Education.pdf#new_tab
CATEGORIES:Students
END:VEVENT
END:VCALENDAR