BEGIN:VCALENDAR
VERSION:2.0
PRODID:-//Dyal Singh College | University of Delhi - ECPv6.0.4//NONSGML v1.0//EN
CALSCALE:GREGORIAN
METHOD:PUBLISH
X-ORIGINAL-URL:https://www.dsc.du.ac.in
X-WR-CALDESC:Events for Dyal Singh College | University of Delhi
REFRESH-INTERVAL;VALUE=DURATION:PT1H
X-Robots-Tag:noindex
X-PUBLISHED-TTL:PT1H
BEGIN:VTIMEZONE
TZID:Asia/Kolkata
BEGIN:STANDARD
TZOFFSETFROM:+0530
TZOFFSETTO:+0530
TZNAME:IST
DTSTART:20230101T000000
END:STANDARD
END:VTIMEZONE
BEGIN:VEVENT
DTSTART;TZID=Asia/Kolkata:20230628T080000
DTEND;TZID=Asia/Kolkata:20230628T170000
DTSTAMP:20260421T192926
CREATED:20230628T065137Z
LAST-MODIFIED:20230628T065446Z
UID:10539-1687939200-1687971600@www.dsc.du.ac.in
SUMMARY:Valedictory Function (Delhi University Centenary Celebration)
DESCRIPTION:
URL:https://www.dsc.du.ac.in/wp-content/uploads/2023/06/vali-fun.pdf#new_tab
CATEGORIES:Students,Teaching
END:VEVENT
BEGIN:VEVENT
DTSTART;TZID=Asia/Kolkata:20230628T080000
DTEND;TZID=Asia/Kolkata:20230628T170000
DTSTAMP:20260421T192926
CREATED:20230628T153807Z
LAST-MODIFIED:20230628T153807Z
UID:10546-1687939200-1687971600@www.dsc.du.ac.in
SUMMARY:Notice (Reg: Last Date of Submission of Examination Fee 2023)
DESCRIPTION:
URL:https://www.dsc.du.ac.in/wp-content/uploads/2023/06/IMPORTANT-NOTICE-EXAMINATION-JULY-2023-1.pdf#new_tab
CATEGORIES:Students
END:VEVENT
BEGIN:VEVENT
DTSTART;TZID=Asia/Kolkata:20230628T080000
DTEND;TZID=Asia/Kolkata:20230628T170000
DTSTAMP:20260421T192926
CREATED:20230628T154025Z
LAST-MODIFIED:20230628T154025Z
UID:10548-1687939200-1687971600@www.dsc.du.ac.in
SUMMARY:Notice (Reg: DISCRIPENCY(S) IN THE EXAMINATION FORM JULY\, 2023 )
DESCRIPTION:
URL:https://www.dsc.du.ac.in/wp-content/uploads/2023/06/DISCRIPENCY-LIST.pdf#new_tab
CATEGORIES:Students
END:VEVENT
BEGIN:VEVENT
DTSTART;TZID=Asia/Kolkata:20230628T080000
DTEND;TZID=Asia/Kolkata:20230628T170000
DTSTAMP:20260421T192926
CREATED:20230628T154212Z
LAST-MODIFIED:20230628T154212Z
UID:10552-1687939200-1687971600@www.dsc.du.ac.in
SUMMARY:Notice (Reg; LIST OF STUDENTS WHOSE FORM IS IN DRAFT MODE JULY\, 2023)
DESCRIPTION:
URL:https://www.dsc.du.ac.in/wp-content/uploads/2023/06/DRAFT-LIST.pdf#new_tab
CATEGORIES:Students
END:VEVENT
BEGIN:VEVENT
DTSTART;TZID=Asia/Kolkata:20230628T080000
DTEND;TZID=Asia/Kolkata:20230628T170000
DTSTAMP:20260421T192926
CREATED:20230628T154334Z
LAST-MODIFIED:20230628T154334Z
UID:10554-1687939200-1687971600@www.dsc.du.ac.in
SUMMARY:Notice (Reg: Paper Option Opted by Students 2nd semester Examination July 2023)
DESCRIPTION:
URL:https://www.dsc.du.ac.in/wp-content/uploads/2023/06/paper-option-opted-by-students-2nd-semester-Examination-July-2023.xlsx#new_tab
CATEGORIES:Students
END:VEVENT
END:VCALENDAR