BEGIN:VCALENDAR
VERSION:2.0
PRODID:-//Dyal Singh College | University of Delhi - ECPv6.0.4//NONSGML v1.0//EN
CALSCALE:GREGORIAN
METHOD:PUBLISH
X-ORIGINAL-URL:https://www.dsc.du.ac.in
X-WR-CALDESC:Events for Dyal Singh College | University of Delhi
REFRESH-INTERVAL;VALUE=DURATION:PT1H
X-Robots-Tag:noindex
X-PUBLISHED-TTL:PT1H
BEGIN:VTIMEZONE
TZID:Asia/Kolkata
BEGIN:STANDARD
TZOFFSETFROM:+0530
TZOFFSETTO:+0530
TZNAME:IST
DTSTART:20230101T000000
END:STANDARD
END:VTIMEZONE
BEGIN:VEVENT
DTSTART;TZID=Asia/Kolkata:20230623T080000
DTEND;TZID=Asia/Kolkata:20230623T170000
DTSTAMP:20260426T031448
CREATED:20230623T103750Z
LAST-MODIFIED:20230623T103802Z
UID:10521-1687507200-1687539600@www.dsc.du.ac.in
SUMMARY:One day Workshop  on  "FINANCIAL EDUCATION " organized by Department of Commerce
DESCRIPTION:
URL:https://www.dsc.du.ac.in/wp-content/uploads/2023/06/poster1_poster-1_merged.pdf#new_tab
CATEGORIES:Non Teaching,Students,Teaching,Upcoming Events
END:VEVENT
BEGIN:VEVENT
DTSTART;TZID=Asia/Kolkata:20230713T080000
DTEND;TZID=Asia/Kolkata:20230713T170000
DTSTAMP:20260426T031448
CREATED:20230713T112441Z
LAST-MODIFIED:20230714T133120Z
UID:10712-1689235200-1689267600@www.dsc.du.ac.in
SUMMARY:Notification (Reg: University shall remain closed w.e.f 14.07.2023 to 16.07.2023)
DESCRIPTION:
URL:https://www.dsc.du.ac.in/wp-content/uploads/2023/07/26EE9F03-8622-462A-9095-1DC86B2135BF.pdf#new_tab
CATEGORIES:Non Teaching,Students,Teaching
END:VEVENT
BEGIN:VEVENT
DTSTART;TZID=Asia/Kolkata:20230721T080000
DTEND;TZID=Asia/Kolkata:20230721T170000
DTSTAMP:20260426T031448
CREATED:20230721T032956Z
LAST-MODIFIED:20240808T075106Z
UID:10834-1689926400-1689958800@www.dsc.du.ac.in
SUMMARY:ITR Mela from 21st to 26th July 2023 organized by Department of Commerce
DESCRIPTION:
URL:https://www.dsc.du.ac.in/wp-content/uploads/2023/07/itr.jpg#new_tab
CATEGORIES:Announcements,Non Teaching,Teaching
END:VEVENT
BEGIN:VEVENT
DTSTART;TZID=Asia/Kolkata:20230726T080000
DTEND;TZID=Asia/Kolkata:20230726T170000
DTSTAMP:20260426T031448
CREATED:20230726T064442Z
LAST-MODIFIED:20230726T064855Z
UID:10982-1690358400-1690390800@www.dsc.du.ac.in
SUMMARY:Notice (Reg: Internal Complaints Committee (ICC) )
DESCRIPTION:
URL:https://www.dsc.du.ac.in/wp-content/uploads/2023/07/ICC.pdf#new_tab
CATEGORIES:Non Teaching,Students
END:VEVENT
BEGIN:VEVENT
DTSTART;TZID=Asia/Kolkata:20230803T080000
DTEND;TZID=Asia/Kolkata:20230803T170000
DTSTAMP:20260426T031448
CREATED:20230803T102034Z
LAST-MODIFIED:20230803T102034Z
UID:11115-1691049600-1691082000@www.dsc.du.ac.in
SUMMARY:Notice (Reg: Ms. Anuradha Gandhi is nominated as Member of ICC)
DESCRIPTION:
URL:https://www.dsc.du.ac.in/wp-content/uploads/2023/08/harrasment-of-employess.pdf#new_tab
CATEGORIES:General,Non Teaching,Teaching
END:VEVENT
BEGIN:VEVENT
DTSTART;TZID=Asia/Kolkata:20230808T080000
DTEND;TZID=Asia/Kolkata:20230808T170000
DTSTAMP:20260426T031448
CREATED:20230808T091357Z
LAST-MODIFIED:20230808T091357Z
UID:11153-1691481600-1691514000@www.dsc.du.ac.in
SUMMARY:Notice (Reg: Orientation Programme 2023-2024)
DESCRIPTION:
URL:https://www.dsc.du.ac.in/wp-content/uploads/2023/08/Orientation-Programme-2023-2024-1.pdf#new_tab
CATEGORIES:Non Teaching,Students,Teaching
END:VEVENT
BEGIN:VEVENT
DTSTART;TZID=Asia/Kolkata:20230810T080000
DTEND;TZID=Asia/Kolkata:20230810T170000
DTSTAMP:20260426T031448
CREATED:20230810T135835Z
LAST-MODIFIED:20230810T135931Z
UID:11175-1691654400-1691686800@www.dsc.du.ac.in
SUMMARY:Skill Enhancement Program conducted by IQAC
DESCRIPTION:
URL:https://www.dsc.du.ac.in/wp-content/uploads/2023/08/final-ict.pdf#new_tab
CATEGORIES:Announcements,Non Teaching
END:VEVENT
BEGIN:VEVENT
DTSTART;TZID=Asia/Kolkata:20230815T080000
DTEND;TZID=Asia/Kolkata:20230815T170000
DTSTAMP:20260426T031448
CREATED:20230815T172346Z
LAST-MODIFIED:20230815T172346Z
UID:11192-1692086400-1692118800@www.dsc.du.ac.in
SUMMARY:Anti Ragging Week from 12th to 18th August\, 2023
DESCRIPTION:
URL:https://www.dsc.du.ac.in/wp-content/uploads/2023/08/image_6483441.jpg#new_tab
CATEGORIES:Announcements,General,Non Teaching,Students,Teaching
END:VEVENT
BEGIN:VEVENT
DTSTART;TZID=Asia/Kolkata:20230815T080000
DTEND;TZID=Asia/Kolkata:20230815T170000
DTSTAMP:20260426T031448
CREATED:20230815T173411Z
LAST-MODIFIED:20230815T173411Z
UID:11199-1692086400-1692118800@www.dsc.du.ac.in
SUMMARY:"Anti Ragging Awareness" event organized by the Anti Ragging Committee.
DESCRIPTION:
URL:https://www.dsc.du.ac.in/wp-content/uploads/2023/08/Notice-WPS-Office.pdf#new_tab
CATEGORIES:Non Teaching,Students,Teaching
END:VEVENT
BEGIN:VEVENT
DTSTART;TZID=Asia/Kolkata:20230818T080000
DTEND;TZID=Asia/Kolkata:20230818T170000
DTSTAMP:20260426T031448
CREATED:20230818T095352Z
LAST-MODIFIED:20230818T095359Z
UID:11224-1692345600-1692378000@www.dsc.du.ac.in
SUMMARY:List of participants shortlisted for Skill Enhancement Program for non-teaching staff (21-25 August 2023)
DESCRIPTION:
URL:https://www.dsc.du.ac.in/wp-content/uploads/2023/08/Final_list-of-particpants-SEP-1.pdf#new_tab
CATEGORIES:General,Non Teaching
END:VEVENT
BEGIN:VEVENT
DTSTART;TZID=Asia/Kolkata:20230905T080000
DTEND;TZID=Asia/Kolkata:20230905T170000
DTSTAMP:20260426T031448
CREATED:20230905T061732Z
LAST-MODIFIED:20230905T061739Z
UID:11474-1693900800-1693933200@www.dsc.du.ac.in
SUMMARY:Closure of the University and it's colleges on the occasion of G-20 Summit to be held in Delhi
DESCRIPTION:
URL:https://www.dsc.du.ac.in/wp-content/uploads/2023/09/holiday-1.jpg#new_tab
CATEGORIES:General,Non Teaching,Students,Teaching
END:VEVENT
BEGIN:VEVENT
DTSTART;TZID=Asia/Kolkata:20230922T080000
DTEND;TZID=Asia/Kolkata:20230922T170000
DTSTAMP:20260426T031448
CREATED:20230922T101009Z
LAST-MODIFIED:20230922T101009Z
UID:11613-1695369600-1695402000@www.dsc.du.ac.in
SUMMARY:College will remain closed on 23rd September 2023
DESCRIPTION:
URL:https://www.dsc.du.ac.in/wp-content/uploads/2023/09/holiday.pdf#new_tab
CATEGORIES:General,Non Teaching,Students,Teaching
END:VEVENT
BEGIN:VEVENT
DTSTART;TZID=Asia/Kolkata:20231104T080000
DTEND;TZID=Asia/Kolkata:20231104T170000
DTSTAMP:20260426T031448
CREATED:20231104T032750Z
LAST-MODIFIED:20231104T032750Z
UID:11906-1699084800-1699117200@www.dsc.du.ac.in
SUMMARY:NOTICE-Evidence in fight between students during Freshers Welcome-DSC-04.11.2023
DESCRIPTION:
URL:https://www.dsc.du.ac.in/wp-content/uploads/2023/11/NOTICE-Evidence-in-fight-between-students-during-Freshers-Welcome-DSC-04.11.2023.pdf#new_tab
CATEGORIES:General,Non Teaching,Students,Teaching
END:VEVENT
BEGIN:VEVENT
DTSTART;TZID=Asia/Kolkata:20231110T080000
DTEND;TZID=Asia/Kolkata:20231110T170000
DTSTAMP:20260426T031448
CREATED:20231110T103202Z
LAST-MODIFIED:20231110T103234Z
UID:12013-1699603200-1699635600@www.dsc.du.ac.in
SUMMARY:Wishing you and your family a very "Happy Deepawali"
DESCRIPTION:
URL:https://www.dsc.du.ac.in/wp-content/uploads/2023/11/diwali.pdf#new_tab
CATEGORIES:Non Teaching,Students,Teaching
END:VEVENT
BEGIN:VEVENT
DTSTART;TZID=Asia/Kolkata:20231112T080000
DTEND;TZID=Asia/Kolkata:20231112T170000
DTSTAMP:20260426T031448
CREATED:20231112T101132Z
LAST-MODIFIED:20231112T101151Z
UID:12017-1699776000-1699808400@www.dsc.du.ac.in
SUMMARY:Show Cause Notice : Chetan Shokeen
DESCRIPTION:
URL:https://www.dsc.du.ac.in/wp-content/uploads/2023/11/Chetan-Shokeen.pdf#new_tab
CATEGORIES:General,Non Teaching,Students,Teaching
END:VEVENT
BEGIN:VEVENT
DTSTART;TZID=Asia/Kolkata:20231112T080000
DTEND;TZID=Asia/Kolkata:20231112T170000
DTSTAMP:20260426T031448
CREATED:20231112T101343Z
LAST-MODIFIED:20231112T101343Z
UID:12022-1699776000-1699808400@www.dsc.du.ac.in
SUMMARY:Show Cause Notice : Jatin Kumar
DESCRIPTION:
URL:https://www.dsc.du.ac.in/wp-content/uploads/2023/11/Jatin-Kumar-1.pdf#new_tab
CATEGORIES:General,Non Teaching,Students,Teaching
END:VEVENT
BEGIN:VEVENT
DTSTART;TZID=Asia/Kolkata:20231112T080000
DTEND;TZID=Asia/Kolkata:20231112T170000
DTSTAMP:20260426T031448
CREATED:20231112T101538Z
LAST-MODIFIED:20231112T101538Z
UID:12025-1699776000-1699808400@www.dsc.du.ac.in
SUMMARY:Show Cause Notice : Dishant Khatri
DESCRIPTION:
URL:https://www.dsc.du.ac.in/wp-content/uploads/2023/11/Dishant-Khatri.pdf#new_tab
CATEGORIES:General,Non Teaching,Students,Teaching
END:VEVENT
BEGIN:VEVENT
DTSTART;TZID=Asia/Kolkata:20231121T080000
DTEND;TZID=Asia/Kolkata:20231121T170000
DTSTAMP:20260426T031448
CREATED:20231121T091118Z
LAST-MODIFIED:20231121T091201Z
UID:12181-1700553600-1700586000@www.dsc.du.ac.in
SUMMARY:DEPARTMENT OF COMMERCE is organizing One Day National Conference on G20 DEVELOPMENT AGENDA
DESCRIPTION:
URL:https://www.dsc.du.ac.in/wp-content/uploads/2023/11/National-Conference-C-6.pdf#new_tab
CATEGORIES:Non Teaching,Students,Teaching
END:VEVENT
BEGIN:VEVENT
DTSTART;TZID=Asia/Kolkata:20231130T080000
DTEND;TZID=Asia/Kolkata:20231130T170000
DTSTAMP:20260426T031448
CREATED:20231130T050031Z
LAST-MODIFIED:20231130T050031Z
UID:12274-1701331200-1701363600@www.dsc.du.ac.in
SUMMARY:25th CEG-UGC Educational Film Festival
DESCRIPTION:
URL:https://www.dsc.du.ac.in/wp-content/uploads/2023/11/CEC-UGC-Film-Festival.pdf#new_tab
CATEGORIES:Non Teaching,Students,Teaching
END:VEVENT
BEGIN:VEVENT
DTSTART;TZID=Asia/Kolkata:20231204T080000
DTEND;TZID=Asia/Kolkata:20231204T170000
DTSTAMP:20260426T031448
CREATED:20231204T065215Z
LAST-MODIFIED:20231204T065215Z
UID:12345-1701676800-1701709200@www.dsc.du.ac.in
SUMMARY:Inter College Boxing Championship (Men & Women)
DESCRIPTION:
URL:https://www.dsc.du.ac.in/wp-content/uploads/2023/12/boxing.pdf#new_tab
CATEGORIES:Non Teaching,Students,Teaching
END:VEVENT
BEGIN:VEVENT
DTSTART;TZID=Asia/Kolkata:20231212T080000
DTEND;TZID=Asia/Kolkata:20231212T170000
DTSTAMP:20260426T031448
CREATED:20231212T064646Z
LAST-MODIFIED:20231212T064646Z
UID:12490-1702368000-1702400400@www.dsc.du.ac.in
SUMMARY:Dispersal of classes for conduct of examination
DESCRIPTION:
URL:https://www.dsc.du.ac.in/wp-content/uploads/2023/12/dispersal.pdf#new_tab
CATEGORIES:Non Teaching,Students,Teaching
END:VEVENT
BEGIN:VEVENT
DTSTART;TZID=Asia/Kolkata:20231212T080000
DTEND;TZID=Asia/Kolkata:20231212T170000
DTSTAMP:20260426T031448
CREATED:20231212T065146Z
LAST-MODIFIED:20231212T065146Z
UID:12493-1702368000-1702400400@www.dsc.du.ac.in
SUMMARY:Tax deduction of all the tax payers of the college for financial year (2023-24) regarding
DESCRIPTION:
URL:https://www.dsc.du.ac.in/wp-content/uploads/2023/12/tax-payer.pdf#new_tab
CATEGORIES:Non Teaching,Teaching
END:VEVENT
BEGIN:VEVENT
DTSTART;TZID=Asia/Kolkata:20231212T080000
DTEND;TZID=Asia/Kolkata:20231212T170000
DTSTAMP:20260426T031448
CREATED:20231212T065505Z
LAST-MODIFIED:20231212T065539Z
UID:12496-1702368000-1702400400@www.dsc.du.ac.in
SUMMARY:Form for computation of Taxable income of salaries
DESCRIPTION:
URL:https://www.dsc.du.ac.in/wp-content/uploads/2023/12/tax-form.pdf#new_tab
CATEGORIES:Non Teaching,Teaching
END:VEVENT
BEGIN:VEVENT
DTSTART;TZID=Asia/Kolkata:20240101T080000
DTEND;TZID=Asia/Kolkata:20240101T170000
DTSTAMP:20260426T031448
CREATED:20240101T030930Z
LAST-MODIFIED:20240101T030930Z
UID:12567-1704096000-1704128400@www.dsc.du.ac.in
SUMMARY:Wishing you and your family a very "Happy New Year"
DESCRIPTION:
URL:https://www.dsc.du.ac.in/wp-content/uploads/2024/01/happy-new-year.pdf#new_tab
CATEGORIES:General,Non Teaching,Students,Teaching
END:VEVENT
BEGIN:VEVENT
DTSTART;TZID=Asia/Kolkata:20240117T080000
DTEND;TZID=Asia/Kolkata:20240117T170000
DTSTAMP:20260426T031448
CREATED:20240117T093730Z
LAST-MODIFIED:20240117T093730Z
UID:12621-1705478400-1705510800@www.dsc.du.ac.in
SUMMARY:Submission of Annual Immovable Property return
DESCRIPTION:
URL:https://www.dsc.du.ac.in/wp-content/uploads/2024/01/annual-property.pdf#new_tab
CATEGORIES:Non Teaching,Teaching
END:VEVENT
BEGIN:VEVENT
DTSTART;TZID=Asia/Kolkata:20240120T080000
DTEND;TZID=Asia/Kolkata:20240120T170000
DTSTAMP:20260426T031448
CREATED:20240120T032806Z
LAST-MODIFIED:20240120T032806Z
UID:12643-1705737600-1705770000@www.dsc.du.ac.in
SUMMARY:Notice (Reg: Half day closing (till 2.30 p.m.) on 22nd January\, 2024)
DESCRIPTION:
URL:https://www.dsc.du.ac.in/wp-content/uploads/2024/01/Notification-regarding-Half-Day-Closing-till-2.30pm.pdf#new_tab
CATEGORIES:General,Non Teaching,Students,Teaching
END:VEVENT
BEGIN:VEVENT
DTSTART;TZID=Asia/Kolkata:20240125T080000
DTEND;TZID=Asia/Kolkata:20240125T170000
DTSTAMP:20260426T031448
CREATED:20240125T084515Z
LAST-MODIFIED:20240125T084515Z
UID:12735-1706169600-1706202000@www.dsc.du.ac.in
SUMMARY:All are invited for Flag Hoisting Ceremony on 26th Jan 2024
DESCRIPTION:
URL:https://www.dsc.du.ac.in/wp-content/uploads/2024/01/republic-day.pdf#new_tab
CATEGORIES:Non Teaching,Students,Teaching
END:VEVENT
BEGIN:VEVENT
DTSTART;TZID=Asia/Kolkata:20240205T080000
DTEND;TZID=Asia/Kolkata:20240205T170000
DTSTAMP:20260426T031448
CREATED:20240205T061817Z
LAST-MODIFIED:20240205T061817Z
UID:12783-1707120000-1707152400@www.dsc.du.ac.in
SUMMARY:PFRDA Master Circular | Partial Withdrawal of Accumulated Pension Wealth
DESCRIPTION:
URL:https://www.dsc.du.ac.in/wp-content/uploads/2024/02/Partial-Withdrawal-of-Accumulated-Pension-Wealth-Master-Circular-January-12-2024.pdf#new_tab
CATEGORIES:General,Non Teaching,Teaching
END:VEVENT
BEGIN:VEVENT
DTSTART;TZID=Asia/Kolkata:20240215T080000
DTEND;TZID=Asia/Kolkata:20240215T170000
DTSTAMP:20260426T031448
CREATED:20240215T061504Z
LAST-MODIFIED:20240215T061606Z
UID:12853-1707984000-1708016400@www.dsc.du.ac.in
SUMMARY:Annual Tech Fest 2024 : Comest
DESCRIPTION:
URL:https://www.dsc.du.ac.in/wp-content/uploads/2024/02/TECH-FEST-2024_Final1.pdf#new_tab
CATEGORIES:Non Teaching,Students,Teaching
END:VEVENT
BEGIN:VEVENT
DTSTART;TZID=Asia/Kolkata:20240220T080000
DTEND;TZID=Asia/Kolkata:20240220T170000
DTSTAMP:20260426T031448
CREATED:20240220T041713Z
LAST-MODIFIED:20240220T041713Z
UID:12870-1708416000-1708448400@www.dsc.du.ac.in
SUMMARY:Notice (Reg: Annual Prize Distribution Function 2023-24)
DESCRIPTION:
URL:https://www.dsc.du.ac.in/wp-content/uploads/2024/02/Annual-Prize-Distribution-Function-2023-24.pdf#new_tab
CATEGORIES:General,Non Teaching,Students,Teaching
END:VEVENT
END:VCALENDAR