BEGIN:VCALENDAR
VERSION:2.0
PRODID:-//Dyal Singh College | University of Delhi - ECPv6.0.4//NONSGML v1.0//EN
CALSCALE:GREGORIAN
METHOD:PUBLISH
X-ORIGINAL-URL:https://www.dsc.du.ac.in
X-WR-CALDESC:Events for Dyal Singh College | University of Delhi
REFRESH-INTERVAL;VALUE=DURATION:PT1H
X-Robots-Tag:noindex
X-PUBLISHED-TTL:PT1H
BEGIN:VTIMEZONE
TZID:Asia/Kolkata
BEGIN:STANDARD
TZOFFSETFROM:+0530
TZOFFSETTO:+0530
TZNAME:IST
DTSTART:20220101T000000
END:STANDARD
END:VTIMEZONE
BEGIN:VEVENT
DTSTART;TZID=Asia/Kolkata:20220425T080000
DTEND;TZID=Asia/Kolkata:20220425T170000
DTSTAMP:20260425T024425
CREATED:20220425T101217Z
LAST-MODIFIED:20220425T101217Z
UID:4408-1650873600-1650906000@www.dsc.du.ac.in
SUMMARY:One Week Skill Enhancement Programme for Non-Teaching Staff
DESCRIPTION:
URL:https://www.dsc.du.ac.in/wp-content/uploads/2022/04/Business-Marketing-Seminar-3.pdf#new_tab
CATEGORIES:Non Teaching,Upcoming Events
END:VEVENT
END:VCALENDAR