BEGIN:VCALENDAR
VERSION:2.0
PRODID:-//Dyal Singh College | University of Delhi - ECPv6.0.4//NONSGML v1.0//EN
CALSCALE:GREGORIAN
METHOD:PUBLISH
X-WR-CALNAME:Dyal Singh College | University of Delhi
X-ORIGINAL-URL:https://www.dsc.du.ac.in
X-WR-CALDESC:Events for Dyal Singh College | University of Delhi
REFRESH-INTERVAL;VALUE=DURATION:PT1H
X-Robots-Tag:noindex
X-PUBLISHED-TTL:PT1H
BEGIN:VTIMEZONE
TZID:Asia/Kolkata
BEGIN:STANDARD
TZOFFSETFROM:+0530
TZOFFSETTO:+0530
TZNAME:IST
DTSTART:20220101T000000
END:STANDARD
END:VTIMEZONE
BEGIN:VEVENT
DTSTART;VALUE=DATE:20220507
DTEND;VALUE=DATE:20220508
DTSTAMP:20260424T164749
CREATED:20220507T123606Z
LAST-MODIFIED:20220507T123606Z
UID:4655-1651881600-1651967999@www.dsc.du.ac.in
SUMMARY:Notice( Reg:Online Teaching during 4 & 6 Semester Physical Examinations May-June 2022)
DESCRIPTION:
URL:https://www.dsc.du.ac.in/wp-content/uploads/2022/05/NOTICE-Online-Teaching-during-4-6-Sem-Physical-Exam-May-June-2022.pdf#new_tab
CATEGORIES:Non Teaching,Students,Teaching
END:VEVENT
END:VCALENDAR