BEGIN:VCALENDAR
VERSION:2.0
PRODID:-//Dyal Singh College | University of Delhi - ECPv6.0.4//NONSGML v1.0//EN
CALSCALE:GREGORIAN
METHOD:PUBLISH
X-ORIGINAL-URL:https://www.dsc.du.ac.in
X-WR-CALDESC:Events for Dyal Singh College | University of Delhi
REFRESH-INTERVAL;VALUE=DURATION:PT1H
X-Robots-Tag:noindex
X-PUBLISHED-TTL:PT1H
BEGIN:VTIMEZONE
TZID:Asia/Kolkata
BEGIN:STANDARD
TZOFFSETFROM:+0530
TZOFFSETTO:+0530
TZNAME:IST
DTSTART:20240101T000000
END:STANDARD
END:VTIMEZONE
BEGIN:VEVENT
DTSTART;TZID=Asia/Kolkata:20241004T080000
DTEND;TZID=Asia/Kolkata:20241004T170000
DTSTAMP:20260425T044732
CREATED:20241004T084257Z
LAST-MODIFIED:20241004T084257Z
UID:14215-1728028800-1728061200@www.dsc.du.ac.in
SUMMARY:Rescheduling /postponement the Guest faculty interviews for Assistant Professor in the Commerce department
DESCRIPTION:
URL:https://www.dsc.du.ac.in/wp-content/uploads/2024/10/POSTPONED-notice-Commerce-DYAL-SINGH-COLLEGE.pdf#new_tab
CATEGORIES:Announcements,Job Opportunities Teaching Positions
END:VEVENT
BEGIN:VEVENT
DTSTART;TZID=Asia/Kolkata:20241004T080000
DTEND;TZID=Asia/Kolkata:20241004T170000
DTSTAMP:20260425T044732
CREATED:20241004T095906Z
LAST-MODIFIED:20241004T100124Z
UID:14218-1728028800-1728061200@www.dsc.du.ac.in
SUMMARY:Walk-In Interviews for Faculty (Assistant Professor-Guest basis) in the Computer Science and EVS department/subject of the College
DESCRIPTION:
URL:https://www.dsc.du.ac.in/wp-content/uploads/2024/10/NOTICE-Interviews-Computer-Science-EVS-04.10.2024.pdf#new_tab
CATEGORIES:Announcements,Job Opportunities Teaching Positions
END:VEVENT
END:VCALENDAR