BEGIN:VCALENDAR
VERSION:2.0
PRODID:-//Dyal Singh College | University of Delhi - ECPv6.0.4//NONSGML v1.0//EN
CALSCALE:GREGORIAN
METHOD:PUBLISH
X-WR-CALNAME:Dyal Singh College | University of Delhi
X-ORIGINAL-URL:https://www.dsc.du.ac.in
X-WR-CALDESC:Events for Dyal Singh College | University of Delhi
REFRESH-INTERVAL;VALUE=DURATION:PT1H
X-Robots-Tag:noindex
X-PUBLISHED-TTL:PT1H
BEGIN:VTIMEZONE
TZID:Asia/Kolkata
BEGIN:STANDARD
TZOFFSETFROM:+0530
TZOFFSETTO:+0530
TZNAME:IST
DTSTART:20240101T000000
END:STANDARD
END:VTIMEZONE
BEGIN:VEVENT
DTSTART;TZID=Asia/Kolkata:20241004T080000
DTEND;TZID=Asia/Kolkata:20241004T170000
DTSTAMP:20260423T182419
CREATED:20241004T084257Z
LAST-MODIFIED:20241004T084257Z
UID:14215-1728028800-1728061200@www.dsc.du.ac.in
SUMMARY:Rescheduling /postponement the Guest faculty interviews for Assistant Professor in the Commerce department
DESCRIPTION:
URL:https://www.dsc.du.ac.in/wp-content/uploads/2024/10/POSTPONED-notice-Commerce-DYAL-SINGH-COLLEGE.pdf#new_tab
CATEGORIES:Announcements,Job Opportunities Teaching Positions
END:VEVENT
BEGIN:VEVENT
DTSTART;TZID=Asia/Kolkata:20241004T080000
DTEND;TZID=Asia/Kolkata:20241004T170000
DTSTAMP:20260423T182419
CREATED:20241004T095906Z
LAST-MODIFIED:20241004T100124Z
UID:14218-1728028800-1728061200@www.dsc.du.ac.in
SUMMARY:Walk-In Interviews for Faculty (Assistant Professor-Guest basis) in the Computer Science and EVS department/subject of the College
DESCRIPTION:
URL:https://www.dsc.du.ac.in/wp-content/uploads/2024/10/NOTICE-Interviews-Computer-Science-EVS-04.10.2024.pdf#new_tab
CATEGORIES:Announcements,Job Opportunities Teaching Positions
END:VEVENT
BEGIN:VEVENT
DTSTART;TZID=Asia/Kolkata:20241008T080000
DTEND;TZID=Asia/Kolkata:20241008T170000
DTSTAMP:20260423T182419
CREATED:20241008T085510Z
LAST-MODIFIED:20241008T085510Z
UID:14236-1728374400-1728406800@www.dsc.du.ac.in
SUMMARY:Walk-In Interviews for Faculty (Assistant Professor-Guest basis) in the Zoology department/subject of the College
DESCRIPTION:
URL:https://www.dsc.du.ac.in/wp-content/uploads/2024/10/NOTICE-Interviews-Zoology-07.10.2024.pdf#new_tab
CATEGORIES:Announcements,Job Opportunities Teaching Positions
END:VEVENT
BEGIN:VEVENT
DTSTART;TZID=Asia/Kolkata:20241008T080000
DTEND;TZID=Asia/Kolkata:20241008T170000
DTSTAMP:20260423T182419
CREATED:20241008T085606Z
LAST-MODIFIED:20241008T085606Z
UID:14239-1728374400-1728406800@www.dsc.du.ac.in
SUMMARY:Rescheduling /postponement the Guest faculty interviews for Assistant Professor in the following departments.
DESCRIPTION:
URL:https://www.dsc.du.ac.in/wp-content/uploads/2024/10/POSTPONED-notice-EVS-Political-Science-07.10.2024.pdf#new_tab
CATEGORIES:Announcements,Job Opportunities Teaching Positions
END:VEVENT
BEGIN:VEVENT
DTSTART;TZID=Asia/Kolkata:20241015T080000
DTEND;TZID=Asia/Kolkata:20241015T170000
DTSTAMP:20260423T182419
CREATED:20241015T035001Z
LAST-MODIFIED:20241015T035001Z
UID:14245-1728979200-1729011600@www.dsc.du.ac.in
SUMMARY:Walk-In Interviews for Faculty (Assistant Professor-Guest basis) in the Economics department/subject of the College
DESCRIPTION:
URL:https://www.dsc.du.ac.in/wp-content/uploads/2024/10/NOTICE-Interviews-Economics-Guest-faculty-on-17.10.2024-docx-1.pdf#new_tab
CATEGORIES:Announcements,Job Opportunities Teaching Positions
END:VEVENT
BEGIN:VEVENT
DTSTART;TZID=Asia/Kolkata:20241016T080000
DTEND;TZID=Asia/Kolkata:20241016T170000
DTSTAMP:20260423T182420
CREATED:20241016T080143Z
LAST-MODIFIED:20241016T080246Z
UID:14257-1729065600-1729098000@www.dsc.du.ac.in
SUMMARY:Walk-In Interviews for Faculty (Assistant Professor-Guest basis) in the Philosophy department/subject of the College
DESCRIPTION:
URL:https://www.dsc.du.ac.in/wp-content/uploads/2024/10/NOTICE-Interviews-Philosophy-16.10.2024.pdf#new_tab
CATEGORIES:Announcements,Job Opportunities Teaching Positions
END:VEVENT
END:VCALENDAR