BEGIN:VCALENDAR
VERSION:2.0
PRODID:-//Dyal Singh College | University of Delhi - ECPv6.0.4//NONSGML v1.0//EN
CALSCALE:GREGORIAN
METHOD:PUBLISH
X-ORIGINAL-URL:https://www.dsc.du.ac.in
X-WR-CALDESC:Events for Dyal Singh College | University of Delhi
REFRESH-INTERVAL;VALUE=DURATION:PT1H
X-Robots-Tag:noindex
X-PUBLISHED-TTL:PT1H
BEGIN:VTIMEZONE
TZID:Asia/Kolkata
BEGIN:STANDARD
TZOFFSETFROM:+0530
TZOFFSETTO:+0530
TZNAME:IST
DTSTART:20240101T000000
END:STANDARD
END:VTIMEZONE
BEGIN:VEVENT
DTSTART;TZID=Asia/Kolkata:20240926T080000
DTEND;TZID=Asia/Kolkata:20240926T170000
DTSTAMP:20260426T000511
CREATED:20240926T064401Z
LAST-MODIFIED:20240926T064401Z
UID:14156-1727337600-1727370000@www.dsc.du.ac.in
SUMMARY:GUEST FACULTY (ASSISTANT PROFESSOR) WALK-IN INTERVIEWS IN VARIOUS DEPARTMENTS
DESCRIPTION:
URL:https://www.dsc.du.ac.in/wp-content/uploads/2024/09/NOTICE-GUEST-Interviews-History-Botany-Geography-Commerce-26.09.2024.pdf#new_tab
CATEGORIES:Announcements,Job Opportunities Teaching Positions
END:VEVENT
BEGIN:VEVENT
DTSTART;TZID=Asia/Kolkata:20240927T080000
DTEND;TZID=Asia/Kolkata:20240927T170000
DTSTAMP:20260426T000511
CREATED:20240927T073828Z
LAST-MODIFIED:20240927T073828Z
UID:14182-1727424000-1727456400@www.dsc.du.ac.in
SUMMARY:Walk-In Interviews for Faculty (Assistant Professor-Guest basis) in the various department/subject of the College
DESCRIPTION:
URL:https://www.dsc.du.ac.in/wp-content/uploads/2024/09/NOTICE-GUEST-Interviews-sanskrit-political-science-english-27.09.2024.-pdf.pdf#new_tab
CATEGORIES:Announcements,Job Opportunities Teaching Positions
END:VEVENT
END:VCALENDAR