BEGIN:VCALENDAR
VERSION:2.0
PRODID:-//Dyal Singh College | University of Delhi - ECPv6.0.4//NONSGML v1.0//EN
CALSCALE:GREGORIAN
METHOD:PUBLISH
X-ORIGINAL-URL:https://www.dsc.du.ac.in
X-WR-CALDESC:Events for Dyal Singh College | University of Delhi
REFRESH-INTERVAL;VALUE=DURATION:PT1H
X-Robots-Tag:noindex
X-PUBLISHED-TTL:PT1H
BEGIN:VTIMEZONE
TZID:Asia/Kolkata
BEGIN:STANDARD
TZOFFSETFROM:+0530
TZOFFSETTO:+0530
TZNAME:IST
DTSTART:20220101T000000
END:STANDARD
END:VTIMEZONE
BEGIN:VEVENT
DTSTART;TZID=Asia/Kolkata:20220430T080000
DTEND;TZID=Asia/Kolkata:20220430T170000
DTSTAMP:20260424T144111
CREATED:20220430T050109Z
LAST-MODIFIED:20220430T050132Z
UID:4443-1651305600-1651338000@www.dsc.du.ac.in
SUMMARY:Final Magazine Draft Last Date 06-3-2022
DESCRIPTION:
URL:https://www.dsc.du.ac.in/wp-content/uploads/2022/04/Final-Magazine-Draft-Last-Date-06-3-2022.pdf#new_tab
CATEGORIES:Announcements,General
END:VEVENT
END:VCALENDAR