BEGIN:VCALENDAR
VERSION:2.0
PRODID:-//Dyal Singh College | University of Delhi - ECPv6.0.4//NONSGML v1.0//EN
CALSCALE:GREGORIAN
METHOD:PUBLISH
X-ORIGINAL-URL:https://www.dsc.du.ac.in
X-WR-CALDESC:Events for Dyal Singh College | University of Delhi
REFRESH-INTERVAL;VALUE=DURATION:PT1H
X-Robots-Tag:noindex
X-PUBLISHED-TTL:PT1H
BEGIN:VTIMEZONE
TZID:Asia/Kolkata
BEGIN:STANDARD
TZOFFSETFROM:+0530
TZOFFSETTO:+0530
TZNAME:IST
DTSTART:20220101T000000
END:STANDARD
END:VTIMEZONE
BEGIN:VEVENT
DTSTART;TZID=Asia/Kolkata:20220427T080000
DTEND;TZID=Asia/Kolkata:20220427T170000
DTSTAMP:20260424T164918
CREATED:20220427T031845Z
LAST-MODIFIED:20220730T100951Z
UID:4426-1651046400-1651078800@www.dsc.du.ac.in
SUMMARY:Annual Prize Distribution 2022 - Dyal Singh College - Invitation
DESCRIPTION:
URL:https://www.dsc.du.ac.in/wp-content/uploads/2022/04/Annual-Prize-Distribution-2022-Dyal-Singh-College-Invitation.pdf#new_tab
CATEGORIES:General,Past Events,Upcoming Events
END:VEVENT
BEGIN:VEVENT
DTSTART;TZID=Asia/Kolkata:20220427T080000
DTEND;TZID=Asia/Kolkata:20220427T170000
DTSTAMP:20260424T164918
CREATED:20220427T072241Z
LAST-MODIFIED:20220427T072241Z
UID:4429-1651046400-1651078800@www.dsc.du.ac.in
SUMMARY:Notice (Reg: The Annual Prize Distribution Function )
DESCRIPTION:
URL:https://www.dsc.du.ac.in/wp-content/uploads/2022/04/Annual-Prize-Function.pdf#new_tab
CATEGORIES:General,Non Teaching,Students,Teaching
END:VEVENT
END:VCALENDAR