BEGIN:VCALENDAR
VERSION:2.0
PRODID:-//Dyal Singh College | University of Delhi - ECPv6.0.4//NONSGML v1.0//EN
CALSCALE:GREGORIAN
METHOD:PUBLISH
X-WR-CALNAME:Dyal Singh College | University of Delhi
X-ORIGINAL-URL:https://www.dsc.du.ac.in
X-WR-CALDESC:Events for Dyal Singh College | University of Delhi
REFRESH-INTERVAL;VALUE=DURATION:PT1H
X-Robots-Tag:noindex
X-PUBLISHED-TTL:PT1H
BEGIN:VTIMEZONE
TZID:Asia/Kolkata
BEGIN:STANDARD
TZOFFSETFROM:+0530
TZOFFSETTO:+0530
TZNAME:IST
DTSTART:20240101T000000
END:STANDARD
END:VTIMEZONE
BEGIN:VEVENT
DTSTART;TZID=Asia/Kolkata:20240910T080000
DTEND;TZID=Asia/Kolkata:20240910T170000
DTSTAMP:20260421T080751
CREATED:20240910T041105Z
LAST-MODIFIED:20240910T041105Z
UID:13916-1725955200-1725987600@www.dsc.du.ac.in
SUMMARY:Notice (Reg: College students union and central councillor of DUSU 2024-25 Elections)
DESCRIPTION:
URL:https://www.dsc.du.ac.in/wp-content/uploads/2024/09/election-notice.pdf#new_tab
CATEGORIES:General,Students
END:VEVENT
BEGIN:VEVENT
DTSTART;TZID=Asia/Kolkata:20240917T080000
DTEND;TZID=Asia/Kolkata:20240917T170000
DTSTAMP:20260421T080751
CREATED:20240918T025446Z
LAST-MODIFIED:20240918T025525Z
UID:13971-1726560000-1726592400@www.dsc.du.ac.in
SUMMARY:Notice (Reg: List of eligible and not eligible candidates for the post of Sr. P. A. to Principal)
DESCRIPTION:
URL:https://www.dsc.du.ac.in/wp-content/uploads/2024/09/Notice-Sr.-P.-A.-to-Principal.pdf#new_tab
CATEGORIES:Announcements,General,Job Opportunities Non Teaching Positions
END:VEVENT
BEGIN:VEVENT
DTSTART;TZID=Asia/Kolkata:20240919T080000
DTEND;TZID=Asia/Kolkata:20240919T170000
DTSTAMP:20260421T080751
CREATED:20240919T142859Z
LAST-MODIFIED:20240919T142859Z
UID:14013-1726732800-1726765200@www.dsc.du.ac.in
SUMMARY:List of Provisionally Selected Candidates - DSCSU Elections-2024-25
DESCRIPTION:
URL:https://www.dsc.du.ac.in/wp-content/uploads/2024/09/List-of-Provisionally-Selected-Candidates-DSCSU-Elections-2024-25.pdf#new_tab
CATEGORIES:Announcements,General
END:VEVENT
BEGIN:VEVENT
DTSTART;TZID=Asia/Kolkata:20240920T080000
DTEND;TZID=Asia/Kolkata:20240920T170000
DTSTAMP:20260421T080751
CREATED:20240920T084352Z
LAST-MODIFIED:20240920T084352Z
UID:14020-1726819200-1726851600@www.dsc.du.ac.in
SUMMARY:List of eligible candidates for DUSU- Elections 2024
DESCRIPTION:
URL:https://www.dsc.du.ac.in/wp-content/uploads/2024/09/eligible.pdf#new_tab
CATEGORIES:General
END:VEVENT
END:VCALENDAR