BEGIN:VCALENDAR
VERSION:2.0
PRODID:-//Dyal Singh College | University of Delhi - ECPv6.0.4//NONSGML v1.0//EN
CALSCALE:GREGORIAN
METHOD:PUBLISH
X-WR-CALNAME:Dyal Singh College | University of Delhi
X-ORIGINAL-URL:https://www.dsc.du.ac.in
X-WR-CALDESC:Events for Dyal Singh College | University of Delhi
REFRESH-INTERVAL;VALUE=DURATION:PT1H
X-Robots-Tag:noindex
X-PUBLISHED-TTL:PT1H
BEGIN:VTIMEZONE
TZID:Asia/Kolkata
BEGIN:STANDARD
TZOFFSETFROM:+0530
TZOFFSETTO:+0530
TZNAME:IST
DTSTART:20240101T000000
END:STANDARD
END:VTIMEZONE
BEGIN:VEVENT
DTSTART;TZID=Asia/Kolkata:20240702T080000
DTEND;TZID=Asia/Kolkata:20240702T170000
DTSTAMP:20260421T073936
CREATED:20240702T083641Z
LAST-MODIFIED:20240702T083809Z
UID:13508-1719907200-1719939600@www.dsc.du.ac.in
SUMMARY:List of the applicants shortlisted for an Interview in CSIR funded project
DESCRIPTION:
URL:https://www.dsc.du.ac.in/wp-content/uploads/2024/07/List-of-the-applicants-shortlisted-for-an-Interview-in-CSIR-funded-project.pdf#new_tab
CATEGORIES:Announcements,General,Job Opportunities Teaching Positions
END:VEVENT
BEGIN:VEVENT
DTSTART;TZID=Asia/Kolkata:20240712T080000
DTEND;TZID=Asia/Kolkata:20240712T170000
DTSTAMP:20260421T073936
CREATED:20240712T055134Z
LAST-MODIFIED:20240712T055134Z
UID:13521-1720771200-1720803600@www.dsc.du.ac.in
SUMMARY:Advertisement for Research Assistant Position in UGC funded Minor Research Project
DESCRIPTION:
URL:https://www.dsc.du.ac.in/wp-content/uploads/2024/07/geog.pdf#new_tab
CATEGORIES:Announcements,General,Job Opportunities Teaching Positions
END:VEVENT
BEGIN:VEVENT
DTSTART;TZID=Asia/Kolkata:20240730T080000
DTEND;TZID=Asia/Kolkata:20240730T170000
DTSTAMP:20260421T073936
CREATED:20240730T072618Z
LAST-MODIFIED:20240730T072618Z
UID:13563-1722326400-1722358800@www.dsc.du.ac.in
SUMMARY:Anti Ragging Week Poster (English)
DESCRIPTION:
URL:https://www.dsc.du.ac.in/wp-content/uploads/2024/07/english-pdf.pdf#new_tab
CATEGORIES:General
END:VEVENT
BEGIN:VEVENT
DTSTART;TZID=Asia/Kolkata:20240730T080000
DTEND;TZID=Asia/Kolkata:20240730T170000
DTSTAMP:20260421T073936
CREATED:20240730T072719Z
LAST-MODIFIED:20240730T072719Z
UID:13568-1722326400-1722358800@www.dsc.du.ac.in
SUMMARY:Anti Ragging Week Poster (Hindi)
DESCRIPTION:
URL:https://www.dsc.du.ac.in/wp-content/uploads/2024/07/pdf-hindi-1.pdf#new_tab
CATEGORIES:General
END:VEVENT
END:VCALENDAR