BEGIN:VCALENDAR
VERSION:2.0
PRODID:-//Dyal Singh College | University of Delhi - ECPv6.0.4//NONSGML v1.0//EN
CALSCALE:GREGORIAN
METHOD:PUBLISH
X-ORIGINAL-URL:https://www.dsc.du.ac.in
X-WR-CALDESC:Events for Dyal Singh College | University of Delhi
REFRESH-INTERVAL;VALUE=DURATION:PT1H
X-Robots-Tag:noindex
X-PUBLISHED-TTL:PT1H
BEGIN:VTIMEZONE
TZID:Asia/Kolkata
BEGIN:STANDARD
TZOFFSETFROM:+0530
TZOFFSETTO:+0530
TZNAME:IST
DTSTART:20250101T000000
END:STANDARD
END:VTIMEZONE
BEGIN:VEVENT
DTSTART;TZID=Asia/Kolkata:20251017T080000
DTEND;TZID=Asia/Kolkata:20251017T170000
DTSTAMP:20260421T073927
CREATED:20251017T094155Z
LAST-MODIFIED:20251017T094155Z
UID:16071-1760688000-1760720400@www.dsc.du.ac.in
SUMMARY:Notice (Reg: Happy Deepawali)
DESCRIPTION:
URL:https://www.dsc.du.ac.in/wp-content/uploads/2025/10/diwali.pdf#new_tab
CATEGORIES:Non Teaching,Students,Teaching
END:VEVENT
BEGIN:VEVENT
DTSTART;TZID=Asia/Kolkata:20251017T080000
DTEND;TZID=Asia/Kolkata:20251017T170000
DTSTAMP:20260421T073927
CREATED:20251017T094429Z
LAST-MODIFIED:20251017T094722Z
UID:16074-1760688000-1760720400@www.dsc.du.ac.in
SUMMARY:Notice for Fee Concession 2025-26
DESCRIPTION:
URL:https://www.dsc.du.ac.in/wp-content/uploads/2025/10/fee-con_merged-1.pdf#new_tab
CATEGORIES:Students
END:VEVENT
END:VCALENDAR