BEGIN:VCALENDAR
VERSION:2.0
PRODID:-//Dyal Singh College | University of Delhi - ECPv6.0.4//NONSGML v1.0//EN
CALSCALE:GREGORIAN
METHOD:PUBLISH
X-ORIGINAL-URL:https://www.dsc.du.ac.in
X-WR-CALDESC:Events for Dyal Singh College | University of Delhi
REFRESH-INTERVAL;VALUE=DURATION:PT1H
X-Robots-Tag:noindex
X-PUBLISHED-TTL:PT1H
BEGIN:VTIMEZONE
TZID:Asia/Kolkata
BEGIN:STANDARD
TZOFFSETFROM:+0530
TZOFFSETTO:+0530
TZNAME:IST
DTSTART:20230101T000000
END:STANDARD
END:VTIMEZONE
BEGIN:VEVENT
DTSTART;TZID=Asia/Kolkata:20230717T080000
DTEND;TZID=Asia/Kolkata:20230717T170000
DTSTAMP:20260421T073928
CREATED:20230717T054843Z
LAST-MODIFIED:20230717T054843Z
UID:10789-1689580800-1689613200@www.dsc.du.ac.in
SUMMARY:Duty List of Invigilators for Semester Examination July 2023
DESCRIPTION:
URL:https://www.dsc.du.ac.in/wp-content/uploads/2023/07/inviligilator.pdf#new_tab
CATEGORIES:Teaching
END:VEVENT
BEGIN:VEVENT
DTSTART;TZID=Asia/Kolkata:20230717T080000
DTEND;TZID=Asia/Kolkata:20230717T170000
DTSTAMP:20260421T073928
CREATED:20230717T054917Z
LAST-MODIFIED:20230717T054917Z
UID:10793-1689580800-1689613200@www.dsc.du.ac.in
SUMMARY:Duty List of Additional/Deputy Supdt for Semester Examination July 2023
DESCRIPTION:
URL:https://www.dsc.du.ac.in/wp-content/uploads/2023/07/deputy.pdf#new_tab
CATEGORIES:Teaching
END:VEVENT
BEGIN:VEVENT
DTSTART;TZID=Asia/Kolkata:20230717T080000
DTEND;TZID=Asia/Kolkata:20230717T170000
DTSTAMP:20260421T073929
CREATED:20230717T055606Z
LAST-MODIFIED:20230717T055606Z
UID:10795-1689580800-1689613200@www.dsc.du.ac.in
SUMMARY:Format for Additional/Deputy Supdt. (University semester Examination July 2023)
DESCRIPTION:
URL:https://www.dsc.du.ac.in/wp-content/uploads/2023/07/D_FORMAT_DSUP_July-2023.pdf#new_tab
CATEGORIES:Teaching
END:VEVENT
BEGIN:VEVENT
DTSTART;TZID=Asia/Kolkata:20230717T080000
DTEND;TZID=Asia/Kolkata:20230717T170000
DTSTAMP:20260421T073929
CREATED:20230717T055648Z
LAST-MODIFIED:20230717T055648Z
UID:10799-1689580800-1689613200@www.dsc.du.ac.in
SUMMARY:Format for Invigilators (University semester Examination July 2023)
DESCRIPTION:
URL:https://www.dsc.du.ac.in/wp-content/uploads/2023/07/D_FORMAT_INV_SEM_July-2023-1.pdf#new_tab
CATEGORIES:Teaching
END:VEVENT
BEGIN:VEVENT
DTSTART;TZID=Asia/Kolkata:20230717T080000
DTEND;TZID=Asia/Kolkata:20230717T170000
DTSTAMP:20260421T073929
CREATED:20230717T060951Z
LAST-MODIFIED:20230717T060951Z
UID:10802-1689580800-1689613200@www.dsc.du.ac.in
SUMMARY:Webinar on "Awareness about AIESEC and its various programs" organized by The Placement Cell
DESCRIPTION:
URL:https://www.dsc.du.ac.in/wp-content/uploads/2023/07/plac-cell-prog.jpg#new_tab
CATEGORIES:Announcements,Upcoming Events
END:VEVENT
BEGIN:VEVENT
DTSTART;TZID=Asia/Kolkata:20230717T080000
DTEND;TZID=Asia/Kolkata:20230717T170000
DTSTAMP:20260421T073929
CREATED:20230717T093425Z
LAST-MODIFIED:20230717T093601Z
UID:10805-1689580800-1689613200@www.dsc.du.ac.in
SUMMARY:Rescheduled practical exam date sheet of physics department July 2023
DESCRIPTION:
URL:https://www.dsc.du.ac.in/wp-content/uploads/2023/07/Document-87-2.pdf#new_tab
CATEGORIES:Students
END:VEVENT
END:VCALENDAR