BEGIN:VCALENDAR
VERSION:2.0
PRODID:-//Dyal Singh College | University of Delhi - ECPv6.0.4//NONSGML v1.0//EN
CALSCALE:GREGORIAN
METHOD:PUBLISH
X-WR-CALNAME:Dyal Singh College | University of Delhi
X-ORIGINAL-URL:https://www.dsc.du.ac.in
X-WR-CALDESC:Events for Dyal Singh College | University of Delhi
REFRESH-INTERVAL;VALUE=DURATION:PT1H
X-Robots-Tag:noindex
X-PUBLISHED-TTL:PT1H
BEGIN:VTIMEZONE
TZID:Asia/Kolkata
BEGIN:STANDARD
TZOFFSETFROM:+0530
TZOFFSETTO:+0530
TZNAME:IST
DTSTART:20230101T000000
END:STANDARD
END:VTIMEZONE
BEGIN:VEVENT
DTSTART;TZID=Asia/Kolkata:20230703T080000
DTEND;TZID=Asia/Kolkata:20230703T170000
DTSTAMP:20260421T073944
CREATED:20230703T102109Z
LAST-MODIFIED:20230703T102109Z
UID:10604-1688371200-1688403600@www.dsc.du.ac.in
SUMMARY:Practical Datesheet ( Dept. of Botany: 2nd SEM)
DESCRIPTION:
URL:https://www.dsc.du.ac.in/wp-content/uploads/2023/07/Botany.pdf#new_tab
CATEGORIES:Students
END:VEVENT
BEGIN:VEVENT
DTSTART;TZID=Asia/Kolkata:20230703T080000
DTEND;TZID=Asia/Kolkata:20230703T170000
DTSTAMP:20260421T073944
CREATED:20230703T102225Z
LAST-MODIFIED:20230703T102225Z
UID:10607-1688371200-1688403600@www.dsc.du.ac.in
SUMMARY:Practical Datesheet ( Dept. of Chemistry: 2nd SEM)
DESCRIPTION:
URL:https://www.dsc.du.ac.in/wp-content/uploads/2023/07/Chemistry.pdf#new_tab
CATEGORIES:Students
END:VEVENT
BEGIN:VEVENT
DTSTART;TZID=Asia/Kolkata:20230703T080000
DTEND;TZID=Asia/Kolkata:20230703T170000
DTSTAMP:20260421T073944
CREATED:20230703T102301Z
LAST-MODIFIED:20230703T102301Z
UID:10609-1688371200-1688403600@www.dsc.du.ac.in
SUMMARY:Practical Datesheet ( Dept. of Computer Science: 2nd SEM)
DESCRIPTION:
URL:https://www.dsc.du.ac.in/wp-content/uploads/2023/07/Computer-science.pdf#new_tab
CATEGORIES:Students
END:VEVENT
BEGIN:VEVENT
DTSTART;TZID=Asia/Kolkata:20230703T080000
DTEND;TZID=Asia/Kolkata:20230703T170000
DTSTAMP:20260421T073944
CREATED:20230703T102333Z
LAST-MODIFIED:20230703T102333Z
UID:10611-1688371200-1688403600@www.dsc.du.ac.in
SUMMARY:Practical Datesheet ( Dept. of Economics: 2nd SEM)
DESCRIPTION:
URL:https://www.dsc.du.ac.in/wp-content/uploads/2023/07/Economics.pdf#new_tab
CATEGORIES:Students
END:VEVENT
BEGIN:VEVENT
DTSTART;TZID=Asia/Kolkata:20230703T080000
DTEND;TZID=Asia/Kolkata:20230703T170000
DTSTAMP:20260421T073944
CREATED:20230703T102416Z
LAST-MODIFIED:20230703T102416Z
UID:10613-1688371200-1688403600@www.dsc.du.ac.in
SUMMARY:Practical Datesheet ( Dept. of English: 2nd SEM)
DESCRIPTION:
URL:https://www.dsc.du.ac.in/wp-content/uploads/2023/07/English.pdf#new_tab
CATEGORIES:Students
END:VEVENT
BEGIN:VEVENT
DTSTART;TZID=Asia/Kolkata:20230703T080000
DTEND;TZID=Asia/Kolkata:20230703T170000
DTSTAMP:20260421T073944
CREATED:20230703T102453Z
LAST-MODIFIED:20230703T102453Z
UID:10615-1688371200-1688403600@www.dsc.du.ac.in
SUMMARY:Practical Datesheet ( Dept. of Geography: 2nd SEM)
DESCRIPTION:
URL:https://www.dsc.du.ac.in/wp-content/uploads/2023/07/Geography.pdf#new_tab
CATEGORIES:Students
END:VEVENT
BEGIN:VEVENT
DTSTART;TZID=Asia/Kolkata:20230703T080000
DTEND;TZID=Asia/Kolkata:20230703T170000
DTSTAMP:20260421T073944
CREATED:20230703T102530Z
LAST-MODIFIED:20230703T102530Z
UID:10617-1688371200-1688403600@www.dsc.du.ac.in
SUMMARY:Practical Datesheet ( Dept. of Hindi: 2nd SEM)
DESCRIPTION:
URL:https://www.dsc.du.ac.in/wp-content/uploads/2023/07/Hindi.pdf#new_tab
CATEGORIES:Students
END:VEVENT
BEGIN:VEVENT
DTSTART;TZID=Asia/Kolkata:20230703T080000
DTEND;TZID=Asia/Kolkata:20230703T170000
DTSTAMP:20260421T073944
CREATED:20230703T102603Z
LAST-MODIFIED:20230703T102603Z
UID:10619-1688371200-1688403600@www.dsc.du.ac.in
SUMMARY:Practical Datesheet ( Dept. of History: 2nd SEM)
DESCRIPTION:
URL:https://www.dsc.du.ac.in/wp-content/uploads/2023/07/History.pdf#new_tab
CATEGORIES:Students
END:VEVENT
BEGIN:VEVENT
DTSTART;TZID=Asia/Kolkata:20230703T080000
DTEND;TZID=Asia/Kolkata:20230703T170000
DTSTAMP:20260421T073944
CREATED:20230703T102655Z
LAST-MODIFIED:20230703T102655Z
UID:10621-1688371200-1688403600@www.dsc.du.ac.in
SUMMARY:Practical Datesheet ( Dept. of Mathematics: 2nd SEM)
DESCRIPTION:
URL:https://www.dsc.du.ac.in/wp-content/uploads/2023/07/Mathematics.pdf#new_tab
CATEGORIES:Students
END:VEVENT
BEGIN:VEVENT
DTSTART;TZID=Asia/Kolkata:20230703T080000
DTEND;TZID=Asia/Kolkata:20230703T170000
DTSTAMP:20260421T073944
CREATED:20230703T102736Z
LAST-MODIFIED:20230703T102736Z
UID:10623-1688371200-1688403600@www.dsc.du.ac.in
SUMMARY:Practical Datesheet ( Dept. of Philosophy: 2nd SEM)
DESCRIPTION:
URL:https://www.dsc.du.ac.in/wp-content/uploads/2023/07/Philosphy.pdf#new_tab
CATEGORIES:Students
END:VEVENT
BEGIN:VEVENT
DTSTART;TZID=Asia/Kolkata:20230703T080000
DTEND;TZID=Asia/Kolkata:20230703T170000
DTSTAMP:20260421T073944
CREATED:20230703T102812Z
LAST-MODIFIED:20230703T102812Z
UID:10625-1688371200-1688403600@www.dsc.du.ac.in
SUMMARY:Practical Datesheet ( Dept. of Physics: 2nd SEM)
DESCRIPTION:
URL:https://www.dsc.du.ac.in/wp-content/uploads/2023/07/Physics.pdf#new_tab
CATEGORIES:Students
END:VEVENT
BEGIN:VEVENT
DTSTART;TZID=Asia/Kolkata:20230703T080000
DTEND;TZID=Asia/Kolkata:20230703T170000
DTSTAMP:20260421T073944
CREATED:20230703T102853Z
LAST-MODIFIED:20230703T102853Z
UID:10627-1688371200-1688403600@www.dsc.du.ac.in
SUMMARY:Practical Datesheet ( Dept. of Political Science: 2nd SEM)
DESCRIPTION:
URL:https://www.dsc.du.ac.in/wp-content/uploads/2023/07/Political-Science.pdf#new_tab
CATEGORIES:Students
END:VEVENT
BEGIN:VEVENT
DTSTART;TZID=Asia/Kolkata:20230703T080000
DTEND;TZID=Asia/Kolkata:20230703T170000
DTSTAMP:20260421T073944
CREATED:20230703T102938Z
LAST-MODIFIED:20230703T102938Z
UID:10629-1688371200-1688403600@www.dsc.du.ac.in
SUMMARY:Practical Datesheet ( Dept. of Zoology: 2nd SEM)
DESCRIPTION:
URL:https://www.dsc.du.ac.in/wp-content/uploads/2023/07/Zoology.pdf#new_tab
CATEGORIES:Students
END:VEVENT
BEGIN:VEVENT
DTSTART;TZID=Asia/Kolkata:20230703T080000
DTEND;TZID=Asia/Kolkata:20230703T170000
DTSTAMP:20260421T073944
CREATED:20230703T123108Z
LAST-MODIFIED:20230703T123108Z
UID:10632-1688371200-1688403600@www.dsc.du.ac.in
SUMMARY:Candidates selected for the post of Assistant Professor on Permanent basis in the Department of Physics
DESCRIPTION:
URL:https://www.dsc.du.ac.in/wp-content/uploads/2023/07/Selection-Notice-Physics-03.07.2023-For-Website.pdf#new_tab
CATEGORIES:Announcements,General,Job Opportunities Teaching Positions,Teaching
END:VEVENT
BEGIN:VEVENT
DTSTART;TZID=Asia/Kolkata:20230703T080000
DTEND;TZID=Asia/Kolkata:20230703T170000
DTSTAMP:20260421T073944
CREATED:20230703T123330Z
LAST-MODIFIED:20230703T123330Z
UID:10635-1688371200-1688403600@www.dsc.du.ac.in
SUMMARY:Practical Datesheet ( Dept. of Punjabi: 2nd SEM)
DESCRIPTION:
URL:https://www.dsc.du.ac.in/wp-content/uploads/2023/07/Practical-exam-date-sheet-Punjabi-The-Art-of-being-happy_1_Practical-exam-Punjabi-The-Art-of-being-happy.pdf#new_tab
CATEGORIES:Students
END:VEVENT
BEGIN:VEVENT
DTSTART;TZID=Asia/Kolkata:20230703T080000
DTEND;TZID=Asia/Kolkata:20230703T170000
DTSTAMP:20260421T073944
CREATED:20230703T123522Z
LAST-MODIFIED:20230703T123522Z
UID:10638-1688371200-1688403600@www.dsc.du.ac.in
SUMMARY:Practical Datesheet (NCC-2nd Semester)
DESCRIPTION:
URL:https://www.dsc.du.ac.in/wp-content/uploads/2023/07/NCC-VAC-II-Practical-exam-date-sheet_2_NCC-VAC-II-practical-exam-date-sheet.pdf#new_tab
CATEGORIES:Students
END:VEVENT
END:VCALENDAR