BEGIN:VCALENDAR
VERSION:2.0
PRODID:-//Dyal Singh College | University of Delhi - ECPv6.0.4//NONSGML v1.0//EN
CALSCALE:GREGORIAN
METHOD:PUBLISH
X-ORIGINAL-URL:https://www.dsc.du.ac.in
X-WR-CALDESC:Events for Dyal Singh College | University of Delhi
REFRESH-INTERVAL;VALUE=DURATION:PT1H
X-Robots-Tag:noindex
X-PUBLISHED-TTL:PT1H
BEGIN:VTIMEZONE
TZID:Asia/Kolkata
BEGIN:STANDARD
TZOFFSETFROM:+0530
TZOFFSETTO:+0530
TZNAME:IST
DTSTART:20230101T000000
END:STANDARD
END:VTIMEZONE
BEGIN:VEVENT
DTSTART;TZID=Asia/Kolkata:20230614T080000
DTEND;TZID=Asia/Kolkata:20230614T170000
DTSTAMP:20260421T073903
CREATED:20230614T034155Z
LAST-MODIFIED:20230616T092616Z
UID:10487-1686729600-1686762000@www.dsc.du.ac.in
SUMMARY:Paper Option GE/SEC/VAC/AEC - SEMESTER-2
DESCRIPTION:
URL:https://www.dsc.du.ac.in/wp-content/uploads/2023/06/final-Paper-Option-Data-for-GE_SEC_VAC_AEC-Semester-2-2.pdf#new_tab
CATEGORIES:Students
END:VEVENT
BEGIN:VEVENT
DTSTART;TZID=Asia/Kolkata:20230614T080000
DTEND;TZID=Asia/Kolkata:20230614T170000
DTSTAMP:20260421T073903
CREATED:20230614T052412Z
LAST-MODIFIED:20230614T052536Z
UID:10492-1686729600-1686762000@www.dsc.du.ac.in
SUMMARY:Online Google Form - Paper Options for Sem 5 / July - Nov\, 2023
DESCRIPTION:
URL:https://forms.gle/UnzYkDFoCq3B3qwx6#new_tab
CATEGORIES:Students
END:VEVENT
END:VCALENDAR