BEGIN:VCALENDAR
VERSION:2.0
PRODID:-//Dyal Singh College | University of Delhi - ECPv6.0.4//NONSGML v1.0//EN
CALSCALE:GREGORIAN
METHOD:PUBLISH
X-WR-CALNAME:Dyal Singh College | University of Delhi
X-ORIGINAL-URL:https://www.dsc.du.ac.in
X-WR-CALDESC:Events for Dyal Singh College | University of Delhi
REFRESH-INTERVAL;VALUE=DURATION:PT1H
X-Robots-Tag:noindex
X-PUBLISHED-TTL:PT1H
BEGIN:VTIMEZONE
TZID:Asia/Kolkata
BEGIN:STANDARD
TZOFFSETFROM:+0530
TZOFFSETTO:+0530
TZNAME:IST
DTSTART:20230101T000000
END:STANDARD
END:VTIMEZONE
BEGIN:VEVENT
DTSTART;TZID=Asia/Kolkata:20230502T080000
DTEND;TZID=Asia/Kolkata:20230502T170000
DTSTAMP:20260423T234239
CREATED:20230502T071441Z
LAST-MODIFIED:20230502T071507Z
UID:10195-1683014400-1683046800@www.dsc.du.ac.in
SUMMARY:Last Reminder (Reg: Students who have applied for scholarships available on E-District Delhi)
DESCRIPTION:
URL:https://www.dsc.du.ac.in/wp-content/uploads/2023/05/edist-delhi-final-1.pdf#new_tab
CATEGORIES:Students
END:VEVENT
BEGIN:VEVENT
DTSTART;TZID=Asia/Kolkata:20230502T080000
DTEND;TZID=Asia/Kolkata:20230502T170000
DTSTAMP:20260423T234239
CREATED:20230502T102141Z
LAST-MODIFIED:20230502T102141Z
UID:10199-1683014400-1683046800@www.dsc.du.ac.in
SUMMARY:Practical Exam Datesheet (B.A.(Hons) Urdu\, Sem IV\, Department of Urdu)
DESCRIPTION:
URL:https://www.dsc.du.ac.in/wp-content/uploads/2023/05/CamScanner-05-02-2023-15.32.pdf#new_tab
CATEGORIES:Students
END:VEVENT
END:VCALENDAR