BEGIN:VCALENDAR
VERSION:2.0
PRODID:-//Dyal Singh College | University of Delhi - ECPv6.0.4//NONSGML v1.0//EN
CALSCALE:GREGORIAN
METHOD:PUBLISH
X-ORIGINAL-URL:https://www.dsc.du.ac.in
X-WR-CALDESC:Events for Dyal Singh College | University of Delhi
REFRESH-INTERVAL;VALUE=DURATION:PT1H
X-Robots-Tag:noindex
X-PUBLISHED-TTL:PT1H
BEGIN:VTIMEZONE
TZID:Asia/Kolkata
BEGIN:STANDARD
TZOFFSETFROM:+0530
TZOFFSETTO:+0530
TZNAME:IST
DTSTART:20230101T000000
END:STANDARD
END:VTIMEZONE
BEGIN:VEVENT
DTSTART;TZID=Asia/Kolkata:20230426T080000
DTEND;TZID=Asia/Kolkata:20230426T170000
DTSTAMP:20260422T002737
CREATED:20230426T062143Z
LAST-MODIFIED:20230426T062143Z
UID:10107-1682496000-1682528400@www.dsc.du.ac.in
SUMMARY:Making Every Conversation Accessible: Saksham's Social Media Accessibility Competition
DESCRIPTION:
URL:https://www.dsc.du.ac.in/wp-content/uploads/2023/04/ilovepdf_merged.pdf#new_tab
CATEGORIES:Students
END:VEVENT
BEGIN:VEVENT
DTSTART;TZID=Asia/Kolkata:20230426T080000
DTEND;TZID=Asia/Kolkata:20230426T170000
DTSTAMP:20260422T002737
CREATED:20230426T084854Z
LAST-MODIFIED:20230426T090911Z
UID:10110-1682496000-1682528400@www.dsc.du.ac.in
SUMMARY:List of academic prize winners for Academic session 2021-22
DESCRIPTION:
URL:https://www.dsc.du.ac.in/wp-content/uploads/2023/04/apd-10.pdf#new_tab
CATEGORIES:Students
END:VEVENT
BEGIN:VEVENT
DTSTART;TZID=Asia/Kolkata:20230426T080000
DTEND;TZID=Asia/Kolkata:20230426T170000
DTSTAMP:20260422T002737
CREATED:20230426T085510Z
LAST-MODIFIED:20230426T090848Z
UID:10113-1682496000-1682528400@www.dsc.du.ac.in
SUMMARY:List of academic prize winners for Academic session 2022-23
DESCRIPTION:
URL:https://www.dsc.du.ac.in/wp-content/uploads/2023/04/apd-230.pdf#new_tab
CATEGORIES:Students
END:VEVENT
BEGIN:VEVENT
DTSTART;TZID=Asia/Kolkata:20230426T080000
DTEND;TZID=Asia/Kolkata:20230426T170000
DTSTAMP:20260422T002737
CREATED:20230426T095930Z
LAST-MODIFIED:20230426T095930Z
UID:10118-1682496000-1682528400@www.dsc.du.ac.in
SUMMARY:Practical Datesheet ( Dept. of Commerce)
DESCRIPTION:
URL:https://www.dsc.du.ac.in/wp-content/uploads/2023/04/Commerce-Computer-Lab.pdf#new_tab
CATEGORIES:Students
END:VEVENT
BEGIN:VEVENT
DTSTART;TZID=Asia/Kolkata:20230426T080000
DTEND;TZID=Asia/Kolkata:20230426T170000
DTSTAMP:20260422T002737
CREATED:20230426T100011Z
LAST-MODIFIED:20230426T100011Z
UID:10124-1682496000-1682528400@www.dsc.du.ac.in
SUMMARY:Practical Datesheet ( B.Sc (Hons) Mathematics: IV & VI SEM)
DESCRIPTION:
URL:https://www.dsc.du.ac.in/wp-content/uploads/2023/04/Mathematics.pdf#new_tab
CATEGORIES:Students
END:VEVENT
BEGIN:VEVENT
DTSTART;TZID=Asia/Kolkata:20230426T080000
DTEND;TZID=Asia/Kolkata:20230426T170000
DTSTAMP:20260422T002737
CREATED:20230426T100101Z
LAST-MODIFIED:20230426T100101Z
UID:10126-1682496000-1682528400@www.dsc.du.ac.in
SUMMARY:Practical Datesheet ( B.Sc (Hons) Chemistry: IV & VI SEM)
DESCRIPTION:
URL:https://www.dsc.du.ac.in/wp-content/uploads/2023/04/Chemistry.pdf#new_tab
CATEGORIES:Students
END:VEVENT
END:VCALENDAR