BEGIN:VCALENDAR
VERSION:2.0
PRODID:-//Dyal Singh College | University of Delhi - ECPv6.0.4//NONSGML v1.0//EN
CALSCALE:GREGORIAN
METHOD:PUBLISH
X-WR-CALNAME:Dyal Singh College | University of Delhi
X-ORIGINAL-URL:https://www.dsc.du.ac.in
X-WR-CALDESC:Events for Dyal Singh College | University of Delhi
REFRESH-INTERVAL;VALUE=DURATION:PT1H
X-Robots-Tag:noindex
X-PUBLISHED-TTL:PT1H
BEGIN:VTIMEZONE
TZID:Asia/Kolkata
BEGIN:STANDARD
TZOFFSETFROM:+0530
TZOFFSETTO:+0530
TZNAME:IST
DTSTART:20230101T000000
END:STANDARD
END:VTIMEZONE
BEGIN:VEVENT
DTSTART;TZID=Asia/Kolkata:20230421T080000
DTEND;TZID=Asia/Kolkata:20230421T170000
DTSTAMP:20260422T002746
CREATED:20230421T052539Z
LAST-MODIFIED:20230421T052539Z
UID:10013-1682064000-1682096400@www.dsc.du.ac.in
SUMMARY:Notice (Reg: Submission of Medical Bills)
DESCRIPTION:
URL:https://www.dsc.du.ac.in/wp-content/uploads/2023/04/mEDICAL.pdf#new_tab
CATEGORIES:Non Teaching,Teaching
END:VEVENT
BEGIN:VEVENT
DTSTART;TZID=Asia/Kolkata:20230421T080000
DTEND;TZID=Asia/Kolkata:20230421T170000
DTSTAMP:20260422T002746
CREATED:20230421T092852Z
LAST-MODIFIED:20230421T092852Z
UID:10044-1682064000-1682096400@www.dsc.du.ac.in
SUMMARY:Details of tutorial groups for B.com (hons)\, Semester-2.
DESCRIPTION:
URL:https://www.dsc.du.ac.in/wp-content/uploads/2023/04/comm-group.pdf#new_tab
CATEGORIES:Students
END:VEVENT
BEGIN:VEVENT
DTSTART;TZID=Asia/Kolkata:20230421T080000
DTEND;TZID=Asia/Kolkata:20230421T170000
DTSTAMP:20260422T002746
CREATED:20230421T095558Z
LAST-MODIFIED:20230421T095558Z
UID:10061-1682064000-1682096400@www.dsc.du.ac.in
SUMMARY:Notice (Reg: Paper Options filled by IV/VI sem students)
DESCRIPTION:
URL:https://www.dsc.du.ac.in/wp-content/uploads/2023/04/NOTICE-FOR-OPTION-PAPER-IV-VI-SEMESTER.pdf#new_tab
CATEGORIES:Students
END:VEVENT
BEGIN:VEVENT
DTSTART;TZID=Asia/Kolkata:20230421T080000
DTEND;TZID=Asia/Kolkata:20230421T170000
DTSTAMP:20260422T002746
CREATED:20230421T095631Z
LAST-MODIFIED:20230421T095653Z
UID:10064-1682064000-1682096400@www.dsc.du.ac.in
SUMMARY:Notice (Reg: Paper Options filled by IV/VI sem students)
DESCRIPTION:
URL:https://www.dsc.du.ac.in/wp-content/uploads/2023/04/MAY-JUNE-2023-4-AND-6-SEMESTER-PAPER-OPTION-DATA.xlsx#new_tab
CATEGORIES:Students
END:VEVENT
END:VCALENDAR