BEGIN:VCALENDAR
VERSION:2.0
PRODID:-//Dyal Singh College | University of Delhi - ECPv6.0.4//NONSGML v1.0//EN
CALSCALE:GREGORIAN
METHOD:PUBLISH
X-WR-CALNAME:Dyal Singh College | University of Delhi
X-ORIGINAL-URL:https://www.dsc.du.ac.in
X-WR-CALDESC:Events for Dyal Singh College | University of Delhi
REFRESH-INTERVAL;VALUE=DURATION:PT1H
X-Robots-Tag:noindex
X-PUBLISHED-TTL:PT1H
BEGIN:VTIMEZONE
TZID:Asia/Kolkata
BEGIN:STANDARD
TZOFFSETFROM:+0530
TZOFFSETTO:+0530
TZNAME:IST
DTSTART:20230101T000000
END:STANDARD
END:VTIMEZONE
BEGIN:VEVENT
DTSTART;TZID=Asia/Kolkata:20230413T080000
DTEND;TZID=Asia/Kolkata:20230413T170000
DTSTAMP:20260422T002743
CREATED:20230413T031441Z
LAST-MODIFIED:20230413T064007Z
UID:9918-1681372800-1681405200@www.dsc.du.ac.in
SUMMARY:Farewell Party 2023 (Department of Mathematics)
DESCRIPTION:
URL:https://www.dsc.du.ac.in/wp-content/uploads/2023/04/Screenshot_2023-04-12-20-00-42-16_c0d35d5c8ea536686f7fb1c9f2f8f274.jpg#new_tab
CATEGORIES:Students,Upcoming Events
END:VEVENT
BEGIN:VEVENT
DTSTART;TZID=Asia/Kolkata:20230413T080000
DTEND;TZID=Asia/Kolkata:20230413T170000
DTSTAMP:20260422T002743
CREATED:20230413T032306Z
LAST-MODIFIED:20230413T032534Z
UID:9920-1681372800-1681405200@www.dsc.du.ac.in
SUMMARY:Notice for Infollion Research Service Recruitment
DESCRIPTION:
URL:https://www.dsc.du.ac.in/wp-content/uploads/2023/04/Infollion-Research-Services-Recruitment-Notice.pdf#new_tab
CATEGORIES:Students
END:VEVENT
BEGIN:VEVENT
DTSTART;TZID=Asia/Kolkata:20230413T080000
DTEND;TZID=Asia/Kolkata:20230413T170000
DTSTAMP:20260422T002743
CREATED:20230413T044812Z
LAST-MODIFIED:20230413T044812Z
UID:9928-1681372800-1681405200@www.dsc.du.ac.in
SUMMARY:Duty List (Annual Prize Distribution Function 2023)
DESCRIPTION:
URL:https://www.dsc.du.ac.in/wp-content/uploads/2023/04/Annual-Day-Duty-List-2023.pdf#new_tab
CATEGORIES:Teaching
END:VEVENT
BEGIN:VEVENT
DTSTART;TZID=Asia/Kolkata:20230413T080000
DTEND;TZID=Asia/Kolkata:20230413T170000
DTSTAMP:20260422T002743
CREATED:20230413T060905Z
LAST-MODIFIED:20230413T060905Z
UID:9930-1681372800-1681405200@www.dsc.du.ac.in
SUMMARY:Notice (Reg: Presiding Officer\, Internal Complaints Committee of the College)
DESCRIPTION:
URL:https://www.dsc.du.ac.in/wp-content/uploads/2023/04/Nomination-of-presiding-Officer-ICC-12.04.2023-1.pdf#new_tab
CATEGORIES:Non Teaching,Students,Teaching
END:VEVENT
BEGIN:VEVENT
DTSTART;TZID=Asia/Kolkata:20230413T080000
DTEND;TZID=Asia/Kolkata:20230413T170000
DTSTAMP:20260422T002743
CREATED:20230413T063547Z
LAST-MODIFIED:20230413T063547Z
UID:9933-1681372800-1681405200@www.dsc.du.ac.in
SUMMARY:Date sheet for Compulsory Test in Hindi (CTH) Exams June-2023
DESCRIPTION:
URL:https://www.dsc.du.ac.in/wp-content/uploads/2023/04/Date-sheet-for-CTH-1.pdf#new_tab
CATEGORIES:Students
END:VEVENT
BEGIN:VEVENT
DTSTART;TZID=Asia/Kolkata:20230413T080000
DTEND;TZID=Asia/Kolkata:20230413T170000
DTSTAMP:20260422T002743
CREATED:20230413T063720Z
LAST-MODIFIED:20230413T071008Z
UID:9937-1681372800-1681405200@www.dsc.du.ac.in
SUMMARY:Notification dated 11.04.2023 regarding  for Filling up the Teachers Database Entry for the Semester Examination II/IV/VI/VIII (UG & PG Regular Courses including NCWEB) for session May/June 2023.
DESCRIPTION:
URL:https://www.dsc.du.ac.in/wp-content/uploads/2023/04/Teacher-data-base.pdf#new_tab
CATEGORIES:Teaching
END:VEVENT
BEGIN:VEVENT
DTSTART;TZID=Asia/Kolkata:20230413T080000
DTEND;TZID=Asia/Kolkata:20230413T170000
DTSTAMP:20260422T002743
CREATED:20230413T063810Z
LAST-MODIFIED:20230413T070922Z
UID:9939-1681372800-1681405200@www.dsc.du.ac.in
SUMMARY:Notification dated 11.04.2023 regarding Filling of the examination forms for Compulsory Test in Hindi (CTH) for Choice Based Credit System (CBCS) for Under Graduate Semester Examinations June-2023
DESCRIPTION:
URL:https://www.dsc.du.ac.in/wp-content/uploads/2023/04/Filling-up-CTH-Exam-form.pdf#new_tab
CATEGORIES:Students
END:VEVENT
BEGIN:VEVENT
DTSTART;TZID=Asia/Kolkata:20230413T080000
DTEND;TZID=Asia/Kolkata:20230413T170000
DTSTAMP:20260422T002743
CREATED:20230413T073812Z
LAST-MODIFIED:20230413T073812Z
UID:9949-1681372800-1681405200@www.dsc.du.ac.in
SUMMARY:Guidelines for Booking of College Auditorium\, Seminar-Hall\, Amphitheatre
DESCRIPTION:
URL:https://www.dsc.du.ac.in/wp-content/uploads/2023/04/Notice-Guidelines-for-Booking-13.04.2023.pdf#new_tab
CATEGORIES:Students,Teaching
END:VEVENT
BEGIN:VEVENT
DTSTART;TZID=Asia/Kolkata:20230413T080000
DTEND;TZID=Asia/Kolkata:20230413T170000
DTSTAMP:20260422T002743
CREATED:20230413T073902Z
LAST-MODIFIED:20230413T073902Z
UID:9952-1681372800-1681405200@www.dsc.du.ac.in
SUMMARY:Hero Housing Finance Recruitment Notice
DESCRIPTION:
URL:https://www.dsc.du.ac.in/wp-content/uploads/2023/04/Hero-Housing-Finance-Recruitment-Notice.pdf#new_tab
CATEGORIES:Students
END:VEVENT
BEGIN:VEVENT
DTSTART;TZID=Asia/Kolkata:20230413T080000
DTEND;TZID=Asia/Kolkata:20230413T170000
DTSTAMP:20260422T002743
CREATED:20230413T105809Z
LAST-MODIFIED:20230415T053714Z
UID:9957-1681372800-1681405200@www.dsc.du.ac.in
SUMMARY:Notice (Reg: Annual Cultural Fest - Priyadarshini)
DESCRIPTION:
URL:https://www.dsc.du.ac.in/wp-content/uploads/2023/04/eca-schedule-1.pdf#new_tab
CATEGORIES:General,Students,Teaching
END:VEVENT
END:VCALENDAR