BEGIN:VCALENDAR
VERSION:2.0
PRODID:-//Dyal Singh College | University of Delhi - ECPv6.0.4//NONSGML v1.0//EN
CALSCALE:GREGORIAN
METHOD:PUBLISH
X-WR-CALNAME:Dyal Singh College | University of Delhi
X-ORIGINAL-URL:https://www.dsc.du.ac.in
X-WR-CALDESC:Events for Dyal Singh College | University of Delhi
REFRESH-INTERVAL;VALUE=DURATION:PT1H
X-Robots-Tag:noindex
X-PUBLISHED-TTL:PT1H
BEGIN:VTIMEZONE
TZID:Asia/Kolkata
BEGIN:STANDARD
TZOFFSETFROM:+0530
TZOFFSETTO:+0530
TZNAME:IST
DTSTART:20230101T000000
END:STANDARD
END:VTIMEZONE
BEGIN:VEVENT
DTSTART;TZID=Asia/Kolkata:20230303T080000
DTEND;TZID=Asia/Kolkata:20230303T170000
DTSTAMP:20260421T073942
CREATED:20230303T060145Z
LAST-MODIFIED:20230721T034125Z
UID:9624-1677830400-1677862800@www.dsc.du.ac.in
SUMMARY:Certificate Courses on PAINTS & COATINGS DEVELOPMENT & ANALYSIS (Basic and Advanced)
DESCRIPTION:
URL:https://www.dsc.du.ac.in/wp-content/uploads/2023/03/Certificate-Course-Brochure_Paint_corrected.pdf#new_tab
CATEGORIES:Announcements,Students
END:VEVENT
BEGIN:VEVENT
DTSTART;TZID=Asia/Kolkata:20230303T080000
DTEND;TZID=Asia/Kolkata:20230303T170000
DTSTAMP:20260421T073942
CREATED:20230303T060234Z
LAST-MODIFIED:20230721T033627Z
UID:9627-1677830400-1677862800@www.dsc.du.ac.in
SUMMARY:Certificate Courses on Drugs and Pharmaceutical Analysis
DESCRIPTION:
URL:https://www.dsc.du.ac.in/wp-content/uploads/2023/03/Certificate-Course-Brochure_drug-corrected.pdf#new_tab
CATEGORIES:Announcements,Students
END:VEVENT
BEGIN:VEVENT
DTSTART;TZID=Asia/Kolkata:20230303T080000
DTEND;TZID=Asia/Kolkata:20230303T170000
DTSTAMP:20260421T073942
CREATED:20230303T060627Z
LAST-MODIFIED:20230303T060711Z
UID:9630-1677830400-1677862800@www.dsc.du.ac.in
SUMMARY:Notification (Reg: Discrepancies removal regarding Screening of Applications for Assistant Professor (Dept of Sanskrit) vide Advt No: DSC/ADMN/399 dated 22.08.22)
DESCRIPTION:
URL:https://www.dsc.du.ac.in/wp-content/uploads/2023/03/NOTICE-Sanskrit.pdf#new_tab
CATEGORIES:Announcements,General,Job Opportunities Teaching Positions
END:VEVENT
BEGIN:VEVENT
DTSTART;TZID=Asia/Kolkata:20230303T080000
DTEND;TZID=Asia/Kolkata:20230303T170000
DTSTAMP:20260421T073942
CREATED:20230303T065557Z
LAST-MODIFIED:20230303T065557Z
UID:9633-1677830400-1677862800@www.dsc.du.ac.in
SUMMARY:"ANNUAL SPORTS MEET 2023"
DESCRIPTION:
URL:https://www.dsc.du.ac.in/wp-content/uploads/2023/03/Scan-Annual-Sports-Meet.pdf#new_tab
CATEGORIES:Non Teaching,Students,Teaching
END:VEVENT
END:VCALENDAR