BEGIN:VCALENDAR
VERSION:2.0
PRODID:-//Dyal Singh College | University of Delhi - ECPv6.0.4//NONSGML v1.0//EN
CALSCALE:GREGORIAN
METHOD:PUBLISH
X-ORIGINAL-URL:https://www.dsc.du.ac.in
X-WR-CALDESC:Events for Dyal Singh College | University of Delhi
REFRESH-INTERVAL;VALUE=DURATION:PT1H
X-Robots-Tag:noindex
X-PUBLISHED-TTL:PT1H
BEGIN:VTIMEZONE
TZID:Asia/Kolkata
BEGIN:STANDARD
TZOFFSETFROM:+0530
TZOFFSETTO:+0530
TZNAME:IST
DTSTART:20230101T000000
END:STANDARD
END:VTIMEZONE
BEGIN:VEVENT
DTSTART;TZID=Asia/Kolkata:20230301T080000
DTEND;TZID=Asia/Kolkata:20230301T170000
DTSTAMP:20260421T073850
CREATED:20230301T032718Z
LAST-MODIFIED:20230301T032718Z
UID:9614-1677657600-1677690000@www.dsc.du.ac.in
SUMMARY:Workshop on Poster and PPT making (Dept. of Computer Science)
DESCRIPTION:
URL:https://www.dsc.du.ac.in/wp-content/uploads/2023/03/cyber-jagrookta-poster.jpeg#new_tab
CATEGORIES:Upcoming Events
END:VEVENT
END:VCALENDAR