BEGIN:VCALENDAR
VERSION:2.0
PRODID:-//Dyal Singh College | University of Delhi - ECPv6.0.4//NONSGML v1.0//EN
CALSCALE:GREGORIAN
METHOD:PUBLISH
X-WR-CALNAME:Dyal Singh College | University of Delhi
X-ORIGINAL-URL:https://www.dsc.du.ac.in
X-WR-CALDESC:Events for Dyal Singh College | University of Delhi
REFRESH-INTERVAL;VALUE=DURATION:PT1H
X-Robots-Tag:noindex
X-PUBLISHED-TTL:PT1H
BEGIN:VTIMEZONE
TZID:Asia/Kolkata
BEGIN:STANDARD
TZOFFSETFROM:+0530
TZOFFSETTO:+0530
TZNAME:IST
DTSTART:20230101T000000
END:STANDARD
END:VTIMEZONE
BEGIN:VEVENT
DTSTART;TZID=Asia/Kolkata:20230222T080000
DTEND;TZID=Asia/Kolkata:20230222T170000
DTSTAMP:20260421T185515
CREATED:20230222T043056Z
LAST-MODIFIED:20230222T043056Z
UID:9532-1677052800-1677085200@www.dsc.du.ac.in
SUMMARY:Urgent (Reg: Filling of Examination form and fee)
DESCRIPTION:
URL:https://www.dsc.du.ac.in/wp-content/uploads/2023/02/EXAMINATION-FEES-NOTICE-DATED-21.02.2023-2.pdf#new_tab
CATEGORIES:Students
END:VEVENT
BEGIN:VEVENT
DTSTART;TZID=Asia/Kolkata:20230222T080000
DTEND;TZID=Asia/Kolkata:20230222T170000
DTSTAMP:20260421T185515
CREATED:20230222T101816Z
LAST-MODIFIED:20230222T101828Z
UID:9535-1677052800-1677085200@www.dsc.du.ac.in
SUMMARY:Practical examination (Reg: VAC paper\, BA (H) Urdu\, 1st sem)
DESCRIPTION:
URL:https://www.dsc.du.ac.in/wp-content/uploads/2023/02/vac-urdu-paper.pdf#new_tab
CATEGORIES:Students
END:VEVENT
END:VCALENDAR