BEGIN:VCALENDAR
VERSION:2.0
PRODID:-//Dyal Singh College | University of Delhi - ECPv6.0.4//NONSGML v1.0//EN
CALSCALE:GREGORIAN
METHOD:PUBLISH
X-ORIGINAL-URL:https://www.dsc.du.ac.in
X-WR-CALDESC:Events for Dyal Singh College | University of Delhi
REFRESH-INTERVAL;VALUE=DURATION:PT1H
X-Robots-Tag:noindex
X-PUBLISHED-TTL:PT1H
BEGIN:VTIMEZONE
TZID:Asia/Kolkata
BEGIN:STANDARD
TZOFFSETFROM:+0530
TZOFFSETTO:+0530
TZNAME:IST
DTSTART:20230101T000000
END:STANDARD
END:VTIMEZONE
BEGIN:VEVENT
DTSTART;TZID=Asia/Kolkata:20230218T080000
DTEND;TZID=Asia/Kolkata:20230218T170000
DTSTAMP:20260421T073856
CREATED:20230218T072041Z
LAST-MODIFIED:20230218T072041Z
UID:9470-1676707200-1676739600@www.dsc.du.ac.in
SUMMARY:Notice (Reg: Practical Exam Date Sheets Departments of Geography)
DESCRIPTION:
URL:https://www.dsc.du.ac.in/wp-content/uploads/2023/02/Geography.pdf#new_tab
CATEGORIES:Students
END:VEVENT
BEGIN:VEVENT
DTSTART;TZID=Asia/Kolkata:20230218T080000
DTEND;TZID=Asia/Kolkata:20230218T170000
DTSTAMP:20260421T073856
CREATED:20230218T072119Z
LAST-MODIFIED:20230218T072119Z
UID:9472-1676707200-1676739600@www.dsc.du.ac.in
SUMMARY:Notice (Reg: Practical Exam Date Sheets Departments of Commerce)
DESCRIPTION:
URL:https://www.dsc.du.ac.in/wp-content/uploads/2023/02/Commerce.pdf#new_tab
CATEGORIES:Students
END:VEVENT
BEGIN:VEVENT
DTSTART;TZID=Asia/Kolkata:20230218T080000
DTEND;TZID=Asia/Kolkata:20230218T170000
DTSTAMP:20260421T073856
CREATED:20230218T091549Z
LAST-MODIFIED:20230218T091549Z
UID:9478-1676707200-1676739600@www.dsc.du.ac.in
SUMMARY:Notice (Reg: Practical Exam Date Sheets Departments of Chemistry)
DESCRIPTION:
URL:https://www.dsc.du.ac.in/wp-content/uploads/2023/02/Chemistry12.pdf#new_tab
CATEGORIES:Students
END:VEVENT
BEGIN:VEVENT
DTSTART;TZID=Asia/Kolkata:20230218T080000
DTEND;TZID=Asia/Kolkata:20230218T170000
DTSTAMP:20260421T073856
CREATED:20230218T091638Z
LAST-MODIFIED:20230218T091638Z
UID:9480-1676707200-1676739600@www.dsc.du.ac.in
SUMMARY:Notice (Reg: Practical Exam Date Sheets Departments of Physics)
DESCRIPTION:
URL:https://www.dsc.du.ac.in/wp-content/uploads/2023/02/Physics.pdf#new_tab
CATEGORIES:Students
END:VEVENT
BEGIN:VEVENT
DTSTART;TZID=Asia/Kolkata:20230218T080000
DTEND;TZID=Asia/Kolkata:20230218T170000
DTSTAMP:20260421T073856
CREATED:20230218T091706Z
LAST-MODIFIED:20230218T091706Z
UID:9482-1676707200-1676739600@www.dsc.du.ac.in
SUMMARY:Notice (Reg: Practical Exam Date Sheets Departments of Mathematics)
DESCRIPTION:
URL:https://www.dsc.du.ac.in/wp-content/uploads/2023/02/Mathematics.pdf#new_tab
CATEGORIES:Students
END:VEVENT
BEGIN:VEVENT
DTSTART;TZID=Asia/Kolkata:20230218T080000
DTEND;TZID=Asia/Kolkata:20230218T170000
DTSTAMP:20260421T073856
CREATED:20230218T091738Z
LAST-MODIFIED:20230218T091738Z
UID:9484-1676707200-1676739600@www.dsc.du.ac.in
SUMMARY:Notice (Reg: Practical Exam Date Sheets Departments of Economics)
DESCRIPTION:
URL:https://www.dsc.du.ac.in/wp-content/uploads/2023/02/Economics.pdf#new_tab
CATEGORIES:Students
END:VEVENT
END:VCALENDAR