BEGIN:VCALENDAR
VERSION:2.0
PRODID:-//Dyal Singh College | University of Delhi - ECPv6.0.4//NONSGML v1.0//EN
CALSCALE:GREGORIAN
METHOD:PUBLISH
X-ORIGINAL-URL:https://www.dsc.du.ac.in
X-WR-CALDESC:Events for Dyal Singh College | University of Delhi
REFRESH-INTERVAL;VALUE=DURATION:PT1H
X-Robots-Tag:noindex
X-PUBLISHED-TTL:PT1H
BEGIN:VTIMEZONE
TZID:Asia/Kolkata
BEGIN:STANDARD
TZOFFSETFROM:+0530
TZOFFSETTO:+0530
TZNAME:IST
DTSTART:20230101T000000
END:STANDARD
END:VTIMEZONE
BEGIN:VEVENT
DTSTART;TZID=Asia/Kolkata:20230216T080000
DTEND;TZID=Asia/Kolkata:20230216T170000
DTSTAMP:20260421T073900
CREATED:20230216T091434Z
LAST-MODIFIED:20230216T091434Z
UID:9437-1676534400-1676566800@www.dsc.du.ac.in
SUMMARY:Physical Verification of Documents (Deptt of History)
DESCRIPTION:
URL:https://www.dsc.du.ac.in/wp-content/uploads/2023/02/HISTORY-H-NOTICE-DATED-15.02.2023-PHYSICAL-VERIFICATION.pdf#new_tab
CATEGORIES:Students
END:VEVENT
BEGIN:VEVENT
DTSTART;TZID=Asia/Kolkata:20230216T080000
DTEND;TZID=Asia/Kolkata:20230216T170000
DTSTAMP:20260421T073900
CREATED:20230216T091530Z
LAST-MODIFIED:20230216T091530Z
UID:9440-1676534400-1676566800@www.dsc.du.ac.in
SUMMARY:Physical Verification of Documents (Deptt of Hindi)
DESCRIPTION:
URL:https://www.dsc.du.ac.in/wp-content/uploads/2023/02/HINDI-H-NOTICE-DATED-15.02.2023-PHYSICAL-VERIFICTION.pdf#new_tab
CATEGORIES:Students
END:VEVENT
BEGIN:VEVENT
DTSTART;TZID=Asia/Kolkata:20230216T080000
DTEND;TZID=Asia/Kolkata:20230216T170000
DTSTAMP:20260421T073900
CREATED:20230216T091619Z
LAST-MODIFIED:20230216T091619Z
UID:9443-1676534400-1676566800@www.dsc.du.ac.in
SUMMARY:Physical Verification of Documents (Physical science with Chemistry)
DESCRIPTION:
URL:https://www.dsc.du.ac.in/wp-content/uploads/2023/02/PHYSICAL-SCIENCE-WITH-CHEMISTRY-NOTICE-DATED-15.02.2023-PHYSICAL-VERIFIATION-3.pdf#new_tab
CATEGORIES:Students
END:VEVENT
END:VCALENDAR