BEGIN:VCALENDAR
VERSION:2.0
PRODID:-//Dyal Singh College | University of Delhi - ECPv6.0.4//NONSGML v1.0//EN
CALSCALE:GREGORIAN
METHOD:PUBLISH
X-ORIGINAL-URL:https://www.dsc.du.ac.in
X-WR-CALDESC:Events for Dyal Singh College | University of Delhi
REFRESH-INTERVAL;VALUE=DURATION:PT1H
X-Robots-Tag:noindex
X-PUBLISHED-TTL:PT1H
BEGIN:VTIMEZONE
TZID:Asia/Kolkata
BEGIN:STANDARD
TZOFFSETFROM:+0530
TZOFFSETTO:+0530
TZNAME:IST
DTSTART:20230101T000000
END:STANDARD
END:VTIMEZONE
BEGIN:VEVENT
DTSTART;TZID=Asia/Kolkata:20230214T080000
DTEND;TZID=Asia/Kolkata:20230214T170000
DTSTAMP:20260421T073905
CREATED:20230214T072632Z
LAST-MODIFIED:20230214T072632Z
UID:9423-1676361600-1676394000@www.dsc.du.ac.in
SUMMARY:Notice (Reg: Practical Exam Date Sheets Departments of Physical Education)
DESCRIPTION:
URL:https://www.dsc.du.ac.in/wp-content/uploads/2023/02/Physical-Verification.pdf#new_tab
CATEGORIES:Students
END:VEVENT
BEGIN:VEVENT
DTSTART;TZID=Asia/Kolkata:20230214T080000
DTEND;TZID=Asia/Kolkata:20230214T170000
DTSTAMP:20260421T073905
CREATED:20230214T155554Z
LAST-MODIFIED:20230214T155554Z
UID:9425-1676361600-1676394000@www.dsc.du.ac.in
SUMMARY:Workshop on Fire Hazard & Life Safety Measures Training Workshop
DESCRIPTION:
URL:https://www.dsc.du.ac.in/wp-content/uploads/2023/02/delhiofire.jpg#new_tab
CATEGORIES:Upcoming Events
END:VEVENT
BEGIN:VEVENT
DTSTART;TZID=Asia/Kolkata:20230214T080000
DTEND;TZID=Asia/Kolkata:20230214T170000
DTSTAMP:20260421T073905
CREATED:20230214T155802Z
LAST-MODIFIED:20230214T155802Z
UID:9428-1676361600-1676394000@www.dsc.du.ac.in
SUMMARY:Drill on Fire Hazard & Life Safety Measures Training Workshop on 16.02.2023
DESCRIPTION:
URL:https://www.dsc.du.ac.in/wp-content/uploads/2023/02/disasyter.jpg#new_tab
CATEGORIES:Non Teaching,Students
END:VEVENT
BEGIN:VEVENT
DTSTART;TZID=Asia/Kolkata:20230214T080000
DTEND;TZID=Asia/Kolkata:20230214T170000
DTSTAMP:20260421T073905
CREATED:20230214T160457Z
LAST-MODIFIED:20230214T160612Z
UID:9431-1676361600-1676394000@www.dsc.du.ac.in
SUMMARY:Examination fees for regular students of semester 1 for all under NEP-UGCF 2022 for academic session 2022-23
DESCRIPTION:
URL:https://www.dsc.du.ac.in/wp-content/uploads/2023/02/NOTICE-FOR-EXAMINATION-NEP-UGCF-2022.pdf#new_tab
CATEGORIES:Students
END:VEVENT
END:VCALENDAR