BEGIN:VCALENDAR
VERSION:2.0
PRODID:-//Dyal Singh College | University of Delhi - ECPv6.0.4//NONSGML v1.0//EN
CALSCALE:GREGORIAN
METHOD:PUBLISH
X-WR-CALNAME:Dyal Singh College | University of Delhi
X-ORIGINAL-URL:https://www.dsc.du.ac.in
X-WR-CALDESC:Events for Dyal Singh College | University of Delhi
REFRESH-INTERVAL;VALUE=DURATION:PT1H
X-Robots-Tag:noindex
X-PUBLISHED-TTL:PT1H
BEGIN:VTIMEZONE
TZID:Asia/Kolkata
BEGIN:STANDARD
TZOFFSETFROM:+0530
TZOFFSETTO:+0530
TZNAME:IST
DTSTART:20230101T000000
END:STANDARD
END:VTIMEZONE
BEGIN:VEVENT
DTSTART;TZID=Asia/Kolkata:20230204T080000
DTEND;TZID=Asia/Kolkata:20230204T170000
DTSTAMP:20260423T234241
CREATED:20230204T040702Z
LAST-MODIFIED:20230204T040716Z
UID:9334-1675497600-1675530000@www.dsc.du.ac.in
SUMMARY:Hands-on workshop on 'Scratch' (Dept. of Computer Science)
DESCRIPTION:
URL:https://www.dsc.du.ac.in/wp-content/uploads/2023/02/Scratch-Wokshop.jpg#new_tab
CATEGORIES:Upcoming Events
END:VEVENT
BEGIN:VEVENT
DTSTART;TZID=Asia/Kolkata:20230204T080000
DTEND;TZID=Asia/Kolkata:20230204T170000
DTSTAMP:20260423T234241
CREATED:20230204T040841Z
LAST-MODIFIED:20230204T040841Z
UID:9337-1675497600-1675530000@www.dsc.du.ac.in
SUMMARY:Interaction Session with first year students (Dept. of Computer Science)
DESCRIPTION:
URL:https://www.dsc.du.ac.in/wp-content/uploads/2023/02/Interaction-with-first-year.jpg#new_tab
CATEGORIES:Upcoming Events
END:VEVENT
END:VCALENDAR