BEGIN:VCALENDAR
VERSION:2.0
PRODID:-//Dyal Singh College | University of Delhi - ECPv6.0.4//NONSGML v1.0//EN
CALSCALE:GREGORIAN
METHOD:PUBLISH
X-ORIGINAL-URL:https://www.dsc.du.ac.in
X-WR-CALDESC:Events for Dyal Singh College | University of Delhi
REFRESH-INTERVAL;VALUE=DURATION:PT1H
X-Robots-Tag:noindex
X-PUBLISHED-TTL:PT1H
BEGIN:VTIMEZONE
TZID:Asia/Kolkata
BEGIN:STANDARD
TZOFFSETFROM:+0530
TZOFFSETTO:+0530
TZNAME:IST
DTSTART:20230101T000000
END:STANDARD
END:VTIMEZONE
BEGIN:VEVENT
DTSTART;TZID=Asia/Kolkata:20230203T080000
DTEND;TZID=Asia/Kolkata:20230203T170000
DTSTAMP:20260421T073851
CREATED:20230203T032616Z
LAST-MODIFIED:20230203T032616Z
UID:9317-1675411200-1675443600@www.dsc.du.ac.in
SUMMARY:Notification: Filling up of  Examination Form (Semester 1st Students)
DESCRIPTION:
URL:https://www.dsc.du.ac.in/wp-content/uploads/2023/02/Notificaiton-UG-NEP-UGCF-2022-02-02-2023.pdf#new_tab
CATEGORIES:Students
END:VEVENT
BEGIN:VEVENT
DTSTART;TZID=Asia/Kolkata:20230203T080000
DTEND;TZID=Asia/Kolkata:20230203T170000
DTSTAMP:20260421T073851
CREATED:20230203T072133Z
LAST-MODIFIED:20230203T072133Z
UID:9320-1675411200-1675443600@www.dsc.du.ac.in
SUMMARY:Webinar on "Energy Consumption\, Climate change & Global Cooperation" by Dr. R.K.Abhay on 3rd Feb 2023
DESCRIPTION:
URL:https://www.dsc.du.ac.in/wp-content/uploads/2023/02/IMG-20230203-WA0001.jpg#new_tab
CATEGORIES:Students,Teaching
END:VEVENT
BEGIN:VEVENT
DTSTART;TZID=Asia/Kolkata:20230203T080000
DTEND;TZID=Asia/Kolkata:20230203T170000
DTSTAMP:20260421T073851
CREATED:20230203T072430Z
LAST-MODIFIED:20230203T072430Z
UID:9323-1675411200-1675443600@www.dsc.du.ac.in
SUMMARY:Committee constituted for Regular and SOL Examinations
DESCRIPTION:
URL:https://www.dsc.du.ac.in/wp-content/uploads/2023/02/Notice.pdf#new_tab
CATEGORIES:Non Teaching,Teaching
END:VEVENT
BEGIN:VEVENT
DTSTART;TZID=Asia/Kolkata:20230203T080000
DTEND;TZID=Asia/Kolkata:20230203T170000
DTSTAMP:20260421T073851
CREATED:20230203T103245Z
LAST-MODIFIED:20230203T103245Z
UID:9329-1675411200-1675443600@www.dsc.du.ac.in
SUMMARY:Physical Verification of Documents (B.A. (Prog)\, Semester I)
DESCRIPTION:
URL:https://www.dsc.du.ac.in/wp-content/uploads/2023/02/BA-PROG-DOCUMENT-VERIFICATION-LETTER.pdf#new_tab
CATEGORIES:Students
END:VEVENT
END:VCALENDAR