BEGIN:VCALENDAR
VERSION:2.0
PRODID:-//Dyal Singh College | University of Delhi - ECPv6.0.4//NONSGML v1.0//EN
CALSCALE:GREGORIAN
METHOD:PUBLISH
X-ORIGINAL-URL:https://www.dsc.du.ac.in
X-WR-CALDESC:Events for Dyal Singh College | University of Delhi
REFRESH-INTERVAL;VALUE=DURATION:PT1H
X-Robots-Tag:noindex
X-PUBLISHED-TTL:PT1H
BEGIN:VTIMEZONE
TZID:Asia/Kolkata
BEGIN:STANDARD
TZOFFSETFROM:+0530
TZOFFSETTO:+0530
TZNAME:IST
DTSTART:20230101T000000
END:STANDARD
END:VTIMEZONE
BEGIN:VEVENT
DTSTART;TZID=Asia/Kolkata:20230202T080000
DTEND;TZID=Asia/Kolkata:20230202T170000
DTSTAMP:20260421T073924
CREATED:20230202T080814Z
LAST-MODIFIED:20230202T080814Z
UID:9304-1675324800-1675357200@www.dsc.du.ac.in
SUMMARY:AMRITPEX-23: DU Chapter organized by the Office of Dean Students' Welfare
DESCRIPTION:
URL:https://www.dsc.du.ac.in/wp-content/uploads/2023/02/AMRITPEX23-DU-CHAPTER.pdf#new_tab
CATEGORIES:Students,Upcoming Events
END:VEVENT
BEGIN:VEVENT
DTSTART;TZID=Asia/Kolkata:20230202T080000
DTEND;TZID=Asia/Kolkata:20230202T170000
DTSTAMP:20260421T073924
CREATED:20230202T085718Z
LAST-MODIFIED:20230202T085718Z
UID:9310-1675324800-1675357200@www.dsc.du.ac.in
SUMMARY:Notice (Reg: Physical Verification of Documents\, B.Sc Phy. Science with Computer Science\, Sem I)
DESCRIPTION:
URL:https://www.dsc.du.ac.in/wp-content/uploads/2023/02/PHY-SCI-COMP-SCI-PHYSICAL-VERIFICATION-NOTICE-DATED-31.01.2023.pdf#new_tab
CATEGORIES:Students
END:VEVENT
END:VCALENDAR