BEGIN:VCALENDAR
VERSION:2.0
PRODID:-//Dyal Singh College | University of Delhi - ECPv6.0.4//NONSGML v1.0//EN
CALSCALE:GREGORIAN
METHOD:PUBLISH
X-ORIGINAL-URL:https://www.dsc.du.ac.in
X-WR-CALDESC:Events for Dyal Singh College | University of Delhi
REFRESH-INTERVAL;VALUE=DURATION:PT1H
X-Robots-Tag:noindex
X-PUBLISHED-TTL:PT1H
BEGIN:VTIMEZONE
TZID:Asia/Kolkata
BEGIN:STANDARD
TZOFFSETFROM:+0530
TZOFFSETTO:+0530
TZNAME:IST
DTSTART:20230101T000000
END:STANDARD
END:VTIMEZONE
BEGIN:VEVENT
DTSTART;TZID=Asia/Kolkata:20230201T080000
DTEND;TZID=Asia/Kolkata:20230201T170000
DTSTAMP:20260421T073913
CREATED:20230201T073517Z
LAST-MODIFIED:20230201T073517Z
UID:9269-1675238400-1675270800@www.dsc.du.ac.in
SUMMARY:Chang-E-Rah (CONNECTING DREAMS FOUNDATION)
DESCRIPTION:
URL:https://www.dsc.du.ac.in/wp-content/uploads/2023/02/Chang-E-Rah-poster-.pdf#new_tab
CATEGORIES:Students,Upcoming Events
END:VEVENT
BEGIN:VEVENT
DTSTART;TZID=Asia/Kolkata:20230201T080000
DTEND;TZID=Asia/Kolkata:20230201T170000
DTSTAMP:20260421T073913
CREATED:20230201T073630Z
LAST-MODIFIED:20230201T073630Z
UID:9272-1675238400-1675270800@www.dsc.du.ac.in
SUMMARY:Zoological Society celebrating “WORLD WETLAND DAY”
DESCRIPTION:
URL:https://www.dsc.du.ac.in/wp-content/uploads/2023/02/Wetland-Day-2023_R1.pdf#new_tab
CATEGORIES:Upcoming Events
END:VEVENT
END:VCALENDAR