BEGIN:VCALENDAR
VERSION:2.0
PRODID:-//Dyal Singh College | University of Delhi - ECPv6.0.4//NONSGML v1.0//EN
CALSCALE:GREGORIAN
METHOD:PUBLISH
X-ORIGINAL-URL:https://www.dsc.du.ac.in
X-WR-CALDESC:Events for Dyal Singh College | University of Delhi
REFRESH-INTERVAL;VALUE=DURATION:PT1H
X-Robots-Tag:noindex
X-PUBLISHED-TTL:PT1H
BEGIN:VTIMEZONE
TZID:Asia/Kolkata
BEGIN:STANDARD
TZOFFSETFROM:+0530
TZOFFSETTO:+0530
TZNAME:IST
DTSTART:20220101T000000
END:STANDARD
END:VTIMEZONE
BEGIN:VEVENT
DTSTART;TZID=Asia/Kolkata:20221215T080000
DTEND;TZID=Asia/Kolkata:20221215T170000
DTSTAMP:20260420T142841
CREATED:20221215T110553Z
LAST-MODIFIED:20221215T110553Z
UID:8862-1671091200-1671123600@www.dsc.du.ac.in
SUMMARY:Notice (Reg: Date of filling of PBAS applications extended till 22.12.2022)
DESCRIPTION:
URL:https://www.dsc.du.ac.in/wp-content/uploads/2022/12/pbas.pdf#new_tab
CATEGORIES:Teaching
END:VEVENT
END:VCALENDAR