BEGIN:VCALENDAR
VERSION:2.0
PRODID:-//Dyal Singh College | University of Delhi - ECPv6.0.4//NONSGML v1.0//EN
CALSCALE:GREGORIAN
METHOD:PUBLISH
X-WR-CALNAME:Dyal Singh College | University of Delhi
X-ORIGINAL-URL:https://www.dsc.du.ac.in
X-WR-CALDESC:Events for Dyal Singh College | University of Delhi
REFRESH-INTERVAL;VALUE=DURATION:PT1H
X-Robots-Tag:noindex
X-PUBLISHED-TTL:PT1H
BEGIN:VTIMEZONE
TZID:Asia/Kolkata
BEGIN:STANDARD
TZOFFSETFROM:+0530
TZOFFSETTO:+0530
TZNAME:IST
DTSTART:20220101T000000
END:STANDARD
END:VTIMEZONE
BEGIN:VEVENT
DTSTART;VALUE=DATE:20221213
DTEND;VALUE=DATE:20221215
DTSTAMP:20260421T073941
CREATED:20221213T054714Z
LAST-MODIFIED:20221213T054714Z
UID:8829-1670893200-1670979599@www.dsc.du.ac.in
SUMMARY:Sem 6 - Online Form to choose Elective Papers
DESCRIPTION:
URL:https://tinyurl.com/3t7dd9bh#new_tab
CATEGORIES:Announcements,Students
END:VEVENT
BEGIN:VEVENT
DTSTART;VALUE=DATE:20221213
DTEND;VALUE=DATE:20221215
DTSTAMP:20260421T073941
CREATED:20221213T062933Z
LAST-MODIFIED:20221213T062933Z
UID:8832-1670893200-1670979599@www.dsc.du.ac.in
SUMMARY:Sem 4 - Online Form to choose Elective Papers
DESCRIPTION:
URL:https://tinyurl.com/pepbw6tk#new_tab
CATEGORIES:Announcements,Students
END:VEVENT
END:VCALENDAR