BEGIN:VCALENDAR
VERSION:2.0
PRODID:-//Dyal Singh College | University of Delhi - ECPv6.0.4//NONSGML v1.0//EN
CALSCALE:GREGORIAN
METHOD:PUBLISH
X-WR-CALNAME:Dyal Singh College | University of Delhi
X-ORIGINAL-URL:https://www.dsc.du.ac.in
X-WR-CALDESC:Events for Dyal Singh College | University of Delhi
REFRESH-INTERVAL;VALUE=DURATION:PT1H
X-Robots-Tag:noindex
X-PUBLISHED-TTL:PT1H
BEGIN:VTIMEZONE
TZID:Asia/Kolkata
BEGIN:STANDARD
TZOFFSETFROM:+0530
TZOFFSETTO:+0530
TZNAME:IST
DTSTART:20220101T000000
END:STANDARD
END:VTIMEZONE
BEGIN:VEVENT
DTSTART;TZID=Asia/Kolkata:20221206T080000
DTEND;TZID=Asia/Kolkata:20221206T170000
DTSTAMP:20260425T202757
CREATED:20221206T085413Z
LAST-MODIFIED:20221206T085413Z
UID:8739-1670313600-1670346000@www.dsc.du.ac.in
SUMMARY:Notice (Reg: Proctorial Board)
DESCRIPTION:
URL:https://www.dsc.du.ac.in/wp-content/uploads/2022/12/proctorial-board-06.12.2022.pdf#new_tab
CATEGORIES:General,Teaching
END:VEVENT
BEGIN:VEVENT
DTSTART;TZID=Asia/Kolkata:20221206T080000
DTEND;TZID=Asia/Kolkata:20221206T170000
DTSTAMP:20260425T202757
CREATED:20221206T102202Z
LAST-MODIFIED:20221206T102202Z
UID:8746-1670313600-1670346000@www.dsc.du.ac.in
SUMMARY:Practical Exam Datesheet (Deptt of Mathematics)
DESCRIPTION:
URL:https://www.dsc.du.ac.in/wp-content/uploads/2022/12/Mathematics.pdf#new_tab
CATEGORIES:Students
END:VEVENT
BEGIN:VEVENT
DTSTART;TZID=Asia/Kolkata:20221206T080000
DTEND;TZID=Asia/Kolkata:20221206T170000
DTSTAMP:20260425T202757
CREATED:20221206T102245Z
LAST-MODIFIED:20221206T102245Z
UID:8752-1670313600-1670346000@www.dsc.du.ac.in
SUMMARY:Practical Exam Datesheet (Deptt of Economics)
DESCRIPTION:
URL:https://www.dsc.du.ac.in/wp-content/uploads/2022/12/Economics.pdf#new_tab
CATEGORIES:Students
END:VEVENT
BEGIN:VEVENT
DTSTART;TZID=Asia/Kolkata:20221206T080000
DTEND;TZID=Asia/Kolkata:20221206T170000
DTSTAMP:20260425T202757
CREATED:20221206T102319Z
LAST-MODIFIED:20221206T102319Z
UID:8754-1670313600-1670346000@www.dsc.du.ac.in
SUMMARY:Practical Exam Datesheet (Deptt of Geography)
DESCRIPTION:
URL:https://www.dsc.du.ac.in/wp-content/uploads/2022/12/geography.pdf#new_tab
CATEGORIES:Students
END:VEVENT
BEGIN:VEVENT
DTSTART;TZID=Asia/Kolkata:20221206T080000
DTEND;TZID=Asia/Kolkata:20221206T170000
DTSTAMP:20260425T202757
CREATED:20221206T102356Z
LAST-MODIFIED:20221206T102356Z
UID:8756-1670313600-1670346000@www.dsc.du.ac.in
SUMMARY:Practical Exam Datesheet (Deptt of Computer Science)
DESCRIPTION:
URL:https://www.dsc.du.ac.in/wp-content/uploads/2022/12/computer-science.pdf#new_tab
CATEGORIES:Students
END:VEVENT
BEGIN:VEVENT
DTSTART;TZID=Asia/Kolkata:20221206T080000
DTEND;TZID=Asia/Kolkata:20221206T170000
DTSTAMP:20260425T202757
CREATED:20221206T102445Z
LAST-MODIFIED:20221206T102445Z
UID:8758-1670313600-1670346000@www.dsc.du.ac.in
SUMMARY:Practical Exam Datesheet (Deptt of Zoology)
DESCRIPTION:
URL:https://www.dsc.du.ac.in/wp-content/uploads/2022/12/zoology.pdf#new_tab
CATEGORIES:Students
END:VEVENT
BEGIN:VEVENT
DTSTART;TZID=Asia/Kolkata:20221206T080000
DTEND;TZID=Asia/Kolkata:20221206T170000
DTSTAMP:20260425T202757
CREATED:20221206T102532Z
LAST-MODIFIED:20221206T102532Z
UID:8760-1670313600-1670346000@www.dsc.du.ac.in
SUMMARY:Practical Exam Datesheet (Deptt of Chemistry)
DESCRIPTION:
URL:https://www.dsc.du.ac.in/wp-content/uploads/2022/12/Chemistry.pdf#new_tab
CATEGORIES:Students
END:VEVENT
BEGIN:VEVENT
DTSTART;TZID=Asia/Kolkata:20221206T080000
DTEND;TZID=Asia/Kolkata:20221206T170000
DTSTAMP:20260425T202757
CREATED:20221206T102610Z
LAST-MODIFIED:20221206T102610Z
UID:8762-1670313600-1670346000@www.dsc.du.ac.in
SUMMARY:Practical Exam Datesheet (Deptt of Botany)
DESCRIPTION:
URL:https://www.dsc.du.ac.in/wp-content/uploads/2022/12/botany.pdf#new_tab
CATEGORIES:Students
END:VEVENT
BEGIN:VEVENT
DTSTART;TZID=Asia/Kolkata:20221206T080000
DTEND;TZID=Asia/Kolkata:20221206T170000
DTSTAMP:20260425T202757
CREATED:20221206T102726Z
LAST-MODIFIED:20221206T102726Z
UID:8764-1670313600-1670346000@www.dsc.du.ac.in
SUMMARY:Practical Exam Datesheet (Deptt of Physics)
DESCRIPTION:
URL:https://www.dsc.du.ac.in/wp-content/uploads/2022/12/physics.pdf#new_tab
CATEGORIES:Students
END:VEVENT
BEGIN:VEVENT
DTSTART;TZID=Asia/Kolkata:20221206T080000
DTEND;TZID=Asia/Kolkata:20221206T170000
DTSTAMP:20260425T202757
CREATED:20221206T102812Z
LAST-MODIFIED:20221206T102812Z
UID:8766-1670313600-1670346000@www.dsc.du.ac.in
SUMMARY:Practical Exam Datesheet (Deptt of Commerce)
DESCRIPTION:
URL:https://www.dsc.du.ac.in/wp-content/uploads/2022/12/Commerce.pdf#new_tab
CATEGORIES:Students
END:VEVENT
END:VCALENDAR