BEGIN:VCALENDAR
VERSION:2.0
PRODID:-//Dyal Singh College | University of Delhi - ECPv6.0.4//NONSGML v1.0//EN
CALSCALE:GREGORIAN
METHOD:PUBLISH
X-ORIGINAL-URL:https://www.dsc.du.ac.in
X-WR-CALDESC:Events for Dyal Singh College | University of Delhi
REFRESH-INTERVAL;VALUE=DURATION:PT1H
X-Robots-Tag:noindex
X-PUBLISHED-TTL:PT1H
BEGIN:VTIMEZONE
TZID:Asia/Kolkata
BEGIN:STANDARD
TZOFFSETFROM:+0530
TZOFFSETTO:+0530
TZNAME:IST
DTSTART:20220101T000000
END:STANDARD
END:VTIMEZONE
BEGIN:VEVENT
DTSTART;VALUE=DATE:20221027
DTEND;VALUE=DATE:20221028
DTSTAMP:20260420T140349
CREATED:20221027T043919Z
LAST-MODIFIED:20221027T043919Z
UID:8148-1666828800-1666915199@www.dsc.du.ac.in
SUMMARY:Centenary Run\, University of Delhi on 18th November\, 2022
DESCRIPTION:
URL:https://www.dsc.du.ac.in/wp-content/uploads/2022/10/run.pdf#new_tab
CATEGORIES:Announcements,Non Teaching,Students,Teaching
END:VEVENT
BEGIN:VEVENT
DTSTART;VALUE=DATE:20221028
DTEND;VALUE=DATE:20221029
DTSTAMP:20260420T140349
CREATED:20221028T102624Z
LAST-MODIFIED:20221031T025255Z
UID:8154-1666915200-1667001599@www.dsc.du.ac.in
SUMMARY:Orientation Programme 2022
DESCRIPTION:
URL:https://www.dsc.du.ac.in/wp-content/uploads/2022/10/Orientation-final.pdf#new_tab
CATEGORIES:Non Teaching,Students,Teaching
END:VEVENT
BEGIN:VEVENT
DTSTART;VALUE=DATE:20221028
DTEND;VALUE=DATE:20221029
DTSTAMP:20260420T140349
CREATED:20221028T105333Z
LAST-MODIFIED:20221028T105356Z
UID:8157-1666915200-1667001599@www.dsc.du.ac.in
SUMMARY:Notice Regarding Remedial Classes (Dept of Commerce)
DESCRIPTION:
URL:https://www.dsc.du.ac.in/wp-content/uploads/2022/10/Remedial-Class-form-1comm.pdf#new_tab
CATEGORIES:Students
END:VEVENT
END:VCALENDAR