BEGIN:VCALENDAR
VERSION:2.0
PRODID:-//Dyal Singh College | University of Delhi - ECPv6.0.4//NONSGML v1.0//EN
CALSCALE:GREGORIAN
METHOD:PUBLISH
X-ORIGINAL-URL:https://www.dsc.du.ac.in
X-WR-CALDESC:Events for Dyal Singh College | University of Delhi
REFRESH-INTERVAL;VALUE=DURATION:PT1H
X-Robots-Tag:noindex
X-PUBLISHED-TTL:PT1H
BEGIN:VTIMEZONE
TZID:Asia/Kolkata
BEGIN:STANDARD
TZOFFSETFROM:+0530
TZOFFSETTO:+0530
TZNAME:IST
DTSTART:20220101T000000
END:STANDARD
END:VTIMEZONE
BEGIN:VEVENT
DTSTART;VALUE=DATE:20221017
DTEND;VALUE=DATE:20221018
DTSTAMP:20260421T073923
CREATED:20221017T102957Z
LAST-MODIFIED:20221017T102957Z
UID:8049-1665964800-1666051199@www.dsc.du.ac.in
SUMMARY:Advertisement of Junior Research Fellow under CCRH (Dept. of Chemistry)
DESCRIPTION:
URL:https://www.dsc.du.ac.in/wp-content/uploads/2022/10/ADVER.pdf#new_tab
CATEGORIES:Announcements,General,Job Opportunities Teaching Positions
END:VEVENT
BEGIN:VEVENT
DTSTART;VALUE=DATE:20221017
DTEND;VALUE=DATE:20221018
DTSTAMP:20260421T073923
CREATED:20221017T103452Z
LAST-MODIFIED:20221017T103452Z
UID:8052-1665964800-1666051199@www.dsc.du.ac.in
SUMMARY:Notice for Teaching and Non-teaching Staff
DESCRIPTION:
URL:https://www.dsc.du.ac.in/wp-content/uploads/2022/10/staff.pdf#new_tab
CATEGORIES:Non Teaching,Teaching
END:VEVENT
END:VCALENDAR